BEGIN:VCALENDAR
PRODID:-//PUBBLE//an agenda//NL
VERSION:2.0
METHOD:PUBLISH
BEGIN:VEVENT
DTSTART:20180823T073000Z
DTEND:20180823T133000Z
DTSTAMP:20260425T162359Z
UID:5c03aa6d-406c-4fdf-96ba-f6c6b60c3783
CREATED:20260425T162359Z
URL:https://www.achterhoekfoto.nl/agenda/item/214811
NAME:Varen met de Nieuwe Aanleg AchterhoekFoto.nl
X-WR-CALNAME:Varen met de Nieuwe Aanleg AchterhoekFoto.nl
X-ALT-DESC;FMTTYPE=text/html:<a href='https://www.achterhoekfoto.nl/agenda/item//214811'>https://achterhoekfoto.nl/agenda/item//214811</a> || <p>Gezellig varen met motorschip de Nieuwe Aanleg.
Vanaf Almen varen met de Aanleg over het Twentekanaal naar Zutphen.
Programma:
9:30 uur,Vertrek met de boot vanaf de Nieuwe Aanleg in Almen
11:30 uur,Bezoek de markt in Zutphen
13:30 uur,Vertrek uit Zutphen met de boot
15:30 uur,Terug bij de Aanleg</p>
DESCRIPTION:<a href='https://www.achterhoekfoto.nl/agenda/item//214811'>https://www.achterhoekfoto.nl/agenda/item//214811</a> || Gezellig varen met motorschip de Nieuwe Aanleg.
Vanaf Almen varen met de Aanleg over het Twentekanaal naar Zutphen.
Programma:
9:30 uur,Vertrek met de boot vanaf de Nieuwe Aanleg in Almen
11:30 uur,Bezoek de markt in Zutphen
13:30 uur,Vertrek uit Zutphen met de boot
15:30 uur,Terug bij de Aanleg
LAST-MODIFIED:20260425T162359Z
LOCATION:De Nieuwe Aanleg Scheggertdijk 10 7218NA Almen
SEQUENCE:0
STATUS:CONFIRMED
SUMMARY:Varen met de Nieuwe Aanleg
TRANSP:OPAQUE
END:VEVENT
END:VCALENDAR
