BEGIN:VCALENDAR
PRODID:-//PUBBLE//an agenda//NL
VERSION:2.0
METHOD:PUBLISH
BEGIN:VEVENT
DTSTART:20180822T130000Z
DTEND:20180822T150000Z
DTSTAMP:20260425T121034Z
UID:b1a8156f-a53e-49cd-9de6-090cb112b570
CREATED:20260425T121034Z
URL:https://www.achterhoekfoto.nl/agenda/item/214529
NAME:Familiefilm: Incredibles 2 AchterhoekFoto.nl
X-WR-CALNAME:Familiefilm: Incredibles 2 AchterhoekFoto.nl
X-ALT-DESC;FMTTYPE=text/html:<a href='https://www.achterhoekfoto.nl/agenda/item//214529'>https://achterhoekfoto.nl/agenda/item//214529</a> || <p>De superhelden zijn terug en stelen opnieuw de show in Incredibles 2. In dit nieuwe avontuur staat Helen in de spotlight als superheld, terwijl Bob dagelijkse heldendaden verricht in het huishouden, met Violet, Dash en baby Jack-Jack – wiens superkrachten nog ontdekt moeten worden. De familie staat alleen al snel op zijn kop als er een briljante schurk opduikt met een meesterplan dat alles in gevaar zal brengen. Dit laten de superhelden natuurlijk niet gebeuren en samen met Frozone gaan ze de strijd aan. Dat is wat deze familie zo Incredible maakt!</p>
DESCRIPTION:<a href='https://www.achterhoekfoto.nl/agenda/item//214529'>https://www.achterhoekfoto.nl/agenda/item//214529</a> || De superhelden zijn terug en stelen opnieuw de show in Incredibles 2. In dit nieuwe avontuur staat Helen in de spotlight als superheld, terwijl Bob dagelijkse heldendaden verricht in het huishouden, met Violet, Dash en baby Jack-Jack – wiens superkrachten nog ontdekt moeten worden. De familie staat alleen al snel op zijn kop als er een briljante schurk opduikt met een meesterplan dat alles in gevaar zal brengen. Dit laten de superhelden natuurlijk niet gebeuren en samen met Frozone gaan ze de strijd aan. Dat is wat deze familie zo Incredible maakt!
LAST-MODIFIED:20260425T121034Z
LOCATION:Barghse Huus theater & film Willem van den Berghstraat 1 7041CW s-Heerenberg
SEQUENCE:0
STATUS:CONFIRMED
SUMMARY:Familiefilm: Incredibles 2
TRANSP:OPAQUE
END:VEVENT
END:VCALENDAR
