BEGIN:VCALENDAR
PRODID:-//PUBBLE//an agenda//NL
VERSION:2.0
METHOD:PUBLISH
BEGIN:VEVENT
DTSTART:20180818T070000Z
DTEND:20180818T100000Z
DTSTAMP:20260424T012712Z
UID:effb0e0d-4cb5-4b9b-ac14-bff0f9d9d3e2
CREATED:20260424T012712Z
URL:https://www.achterhoekfoto.nl/agenda/item/214333
NAME:Boerenland Wandeltocht Beltrum in teken van paarden en natuur AchterhoekFoto.nl
X-WR-CALNAME:Boerenland Wandeltocht Beltrum in teken van paarden en natuur AchterhoekFoto.nl
X-ALT-DESC;FMTTYPE=text/html:<a href='https://www.achterhoekfoto.nl/agenda/item//214333'>https://achterhoekfoto.nl/agenda/item//214333</a> || <p>De stichting vrienden van “Het Noasman” organiseert zaterdag 18 en zondag 19 augustus 2018 voor de 6e keer de Boerenland wandeltocht door het veelzijdige boerenland van  Beltrum. 
De zesde editie  staat in het teken van paarden en natuur.
De zesde editie  staat in het teken van paarden en natuur.
Wandelaars kunnen kiezen   uit een route van  5, 10, 15, 20 en 30 kilometer. Start-, rust- en eindpunt is Bezoekerscentrum “Het Noasman”  aan de Meenweg 4 te Beltrum.
Alle wandelaars lopen o.a. over het terrein en door de stallen van Paardencentrum Reesink Horses in Eibergen. Op deze stal staan rond de 70 paarden, vanaf 3 jaar oud, welke hier worden geselecteerd en de eerste stappen zetten richting hun eventueel toekomstige top sportcarrière.
De natuurgebieden worden zeker niet vergeten. De organisatie is erg blij met de medewerking van een aantal  particulieren die eenmalig hun natuurgebied open zullen stellen voor de wandelaars.
Verder voeren de tochten natuurlijk ook langs nostalgische boerderijen, weilanden met grazende koeien en akkers met koren of maïs. Kortom de veelzijdigheid van het traditionele Achterhoekse landschap komt op alle afstanden aan bod.
Starten kan voor  de 30 km tussen 09.00 en 10.00 uur, voor de 20 en 15 km tussen 09.00 en 11.00 uur en voor de 10 en 5 km  tussen 09.00 en 12.00 uur. 
Voor meer informatie kijk op de website www.noasman.nl.</p>
DESCRIPTION:<a href='https://www.achterhoekfoto.nl/agenda/item//214333'>https://www.achterhoekfoto.nl/agenda/item//214333</a> || De stichting vrienden van “Het Noasman” organiseert zaterdag 18 en zondag 19 augustus 2018 voor de 6e keer de Boerenland wandeltocht door het veelzijdige boerenland van  Beltrum. 
De zesde editie  staat in het teken van paarden en natuur.
De zesde editie  staat in het teken van paarden en natuur.
Wandelaars kunnen kiezen   uit een route van  5, 10, 15, 20 en 30 kilometer. Start-, rust- en eindpunt is Bezoekerscentrum “Het Noasman”  aan de Meenweg 4 te Beltrum.
Alle wandelaars lopen o.a. over het terrein en door de stallen van Paardencentrum Reesink Horses in Eibergen. Op deze stal staan rond de 70 paarden, vanaf 3 jaar oud, welke hier worden geselecteerd en de eerste stappen zetten richting hun eventueel toekomstige top sportcarrière.
De natuurgebieden worden zeker niet vergeten. De organisatie is erg blij met de medewerking van een aantal  particulieren die eenmalig hun natuurgebied open zullen stellen voor de wandelaars.
Verder voeren de tochten natuurlijk ook langs nostalgische boerderijen, weilanden met grazende koeien en akkers met koren of maïs. Kortom de veelzijdigheid van het traditionele Achterhoekse landschap komt op alle afstanden aan bod.
Starten kan voor  de 30 km tussen 09.00 en 10.00 uur, voor de 20 en 15 km tussen 09.00 en 11.00 uur en voor de 10 en 5 km  tussen 09.00 en 12.00 uur. 
Voor meer informatie kijk op de website www.noasman.nl.
LAST-MODIFIED:20260424T012712Z
LOCATION:Bezoekerscentrum Het Noasman Meenweg 4 7156NX Beltrum
SEQUENCE:0
STATUS:CONFIRMED
SUMMARY:Boerenland Wandeltocht Beltrum in teken van paarden en natuur
TRANSP:OPAQUE
END:VEVENT
END:VCALENDAR
