BEGIN:VCALENDAR
PRODID:-//PUBBLE//an agenda//NL
VERSION:2.0
METHOD:PUBLISH
BEGIN:VEVENT
DTSTART:20180821T120000Z
DTEND:20180821T133000Z
DTSTAMP:20260425T021447Z
UID:c2ae3af5-ead0-49d4-bd3e-aec4effdd747
CREATED:20260425T021447Z
URL:https://www.achterhoekfoto.nl/agenda/item/214189
NAME:Stadswandeling Lochem AchterhoekFoto.nl
X-WR-CALNAME:Stadswandeling Lochem AchterhoekFoto.nl
X-ALT-DESC;FMTTYPE=text/html:<a href='https://www.achterhoekfoto.nl/agenda/item//214189'>https://achterhoekfoto.nl/agenda/item//214189</a> || <p>Wandel onder leiding van een VVV gids door het historische centrum van Lochem. Ontdek de bijzondere geveltjes, mooie gebouwen en locaties met een verhaal. Inclusief bezoek aan de Gudulakerk. Vertrek om 14.00 uur bij VVV Lochem, Markt 2. Prijs: 5,00 per persoon, reserveren niet noodzakelijk.

</p>
DESCRIPTION:<a href='https://www.achterhoekfoto.nl/agenda/item//214189'>https://www.achterhoekfoto.nl/agenda/item//214189</a> || Wandel onder leiding van een VVV gids door het historische centrum van Lochem. Ontdek de bijzondere geveltjes, mooie gebouwen en locaties met een verhaal. Inclusief bezoek aan de Gudulakerk. Vertrek om 14.00 uur bij VVV Lochem, Markt 2. Prijs: 5,00 per persoon, reserveren niet noodzakelijk.


LAST-MODIFIED:20260425T021447Z
LOCATION:VVV Lochem Markt 2 7241AA Lochem
SEQUENCE:0
STATUS:CONFIRMED
SUMMARY:Stadswandeling Lochem
TRANSP:OPAQUE
END:VEVENT
END:VCALENDAR
