BEGIN:VCALENDAR
PRODID:-//PUBBLE//an agenda//NL
VERSION:2.0
METHOD:PUBLISH
BEGIN:VEVENT
DTSTART:20180817T080000Z
DTEND:20180819T150000Z
DTSTAMP:20260423T092826Z
UID:4f084ce8-5fb1-4659-90bf-efa44b37b0e4
CREATED:20260423T092826Z
URL:https://www.achterhoekfoto.nl/agenda/item/214037
NAME:Fuchsiatuin open.  AchterhoekFoto.nl
X-WR-CALNAME:Fuchsiatuin open.  AchterhoekFoto.nl
X-ALT-DESC;FMTTYPE=text/html:<a href='https://www.achterhoekfoto.nl/agenda/item//214037'>https://achterhoekfoto.nl/agenda/item//214037</a> || <p>
De fuchsiatuin van de fam. Elsman is dit jaar voor het eerst weer open. In de Wichmondse tuin zijn ruim 700 verschillende fuchsia's te vinden. Daarnaast zijn er ook veel andere zomerbloeiers te bewonderen. 
</p>
DESCRIPTION:<a href='https://www.achterhoekfoto.nl/agenda/item//214037'>https://www.achterhoekfoto.nl/agenda/item//214037</a> || 
De fuchsiatuin van de fam. Elsman is dit jaar voor het eerst weer open. In de Wichmondse tuin zijn ruim 700 verschillende fuchsia's te vinden. Daarnaast zijn er ook veel andere zomerbloeiers te bewonderen. 

LAST-MODIFIED:20260423T092826Z
LOCATION:Bloemenhuis 't Stekkie Baron van der Heydenlaan 24 7234SC Wichmond
SEQUENCE:0
STATUS:CONFIRMED
SUMMARY:Fuchsiatuin open. 
TRANSP:OPAQUE
END:VEVENT
END:VCALENDAR
