BEGIN:VCALENDAR
PRODID:-//PUBBLE//an agenda//NL
VERSION:2.0
METHOD:PUBLISH
BEGIN:VEVENT
DTSTART:20180818T113000Z
DTEND:20180818T123000Z
DTSTAMP:20260424T040009Z
UID:fca8e557-3028-4500-ab1a-7fdb4b90b73d
CREATED:20260424T040009Z
URL:https://www.achterhoekfoto.nl/agenda/item/213416
NAME:Varen in Lochem AchterhoekFoto.nl
X-WR-CALNAME:Varen in Lochem AchterhoekFoto.nl
X-ALT-DESC;FMTTYPE=text/html:<a href='https://www.achterhoekfoto.nl/agenda/item//213416'>https://achterhoekfoto.nl/agenda/item//213416</a> || <p>Laat je meevoeren in de Berkelzomp. Het platbodemscheepje is een replica van de zomp waarmee vroeger handelsvaart werd onderhouden. Nu kun je een uur genieten van de prachtige omgeving.
Tevens mogelijk om 11.00 en 15.30 uur (bij voldoende deelname). Reserveren: VVV Lochem, 0573 -251898.
</p>
DESCRIPTION:<a href='https://www.achterhoekfoto.nl/agenda/item//213416'>https://www.achterhoekfoto.nl/agenda/item//213416</a> || Laat je meevoeren in de Berkelzomp. Het platbodemscheepje is een replica van de zomp waarmee vroeger handelsvaart werd onderhouden. Nu kun je een uur genieten van de prachtige omgeving.
Tevens mogelijk om 11.00 en 15.30 uur (bij voldoende deelname). Reserveren: VVV Lochem, 0573 -251898.

LAST-MODIFIED:20260424T040009Z
LOCATION: Ecologische Stapsteen Stijgoord Stijgoord 2 7241DC Lochem
SEQUENCE:0
STATUS:CONFIRMED
SUMMARY:Varen in Lochem
TRANSP:OPAQUE
END:VEVENT
END:VCALENDAR
