BEGIN:VCALENDAR
PRODID:-//PUBBLE//an agenda//NL
VERSION:2.0
METHOD:PUBLISH
BEGIN:VEVENT
DTSTART:20180823T123000Z
DTEND:20180823T140000Z
DTSTAMP:20260425T215430Z
UID:5e2d7d03-929f-45a1-874b-b0c3831137fc
CREATED:20260425T215430Z
URL:https://www.achterhoekfoto.nl/agenda/item/213351
NAME:Careaz Antoniushove: Careaz Muzikaal AchterhoekFoto.nl
X-WR-CALNAME:Careaz Antoniushove: Careaz Muzikaal AchterhoekFoto.nl
X-ALT-DESC;FMTTYPE=text/html:<a href='https://www.achterhoekfoto.nl/agenda/item//213351'>https://achterhoekfoto.nl/agenda/item//213351</a> || Samen liedjes zingen van toen € 3,00   WP € 2,50<br /><br /><br /><br />
DESCRIPTION:<a href='https://www.achterhoekfoto.nl/agenda/item//213351'>https://www.achterhoekfoto.nl/agenda/item//213351</a> || Samen liedjes zingen van toen € 3,00   WP € 2,50
LAST-MODIFIED:20260425T215430Z
LOCATION:Careaz Antoniushove Rapenburgsestraat 33 7131CW Lichtenvoorde
SEQUENCE:0
STATUS:CONFIRMED
SUMMARY:Careaz Antoniushove: Careaz Muzikaal
TRANSP:OPAQUE
END:VEVENT
END:VCALENDAR
