BEGIN:VCALENDAR
PRODID:-//PUBBLE//an agenda//NL
VERSION:2.0
METHOD:PUBLISH
BEGIN:VEVENT
DTSTART:20180822T123000Z
DTEND:20180822T140000Z
DTSTAMP:20260425T110550Z
UID:16dc234c-240b-4afb-a2cc-e289ebc1a53f
CREATED:20260425T110550Z
URL:https://www.achterhoekfoto.nl/agenda/item/213350
NAME:Careaz Antoniushove: Careaz Welness AchterhoekFoto.nl
X-WR-CALNAME:Careaz Antoniushove: Careaz Welness AchterhoekFoto.nl
X-ALT-DESC;FMTTYPE=text/html:<a href='https://www.achterhoekfoto.nl/agenda/item//213350'>https://achterhoekfoto.nl/agenda/item//213350</a> || Ontspannen handmassage. Vooraf reserveren bij de receptie. Vol = Vol  € 3,00 WP €2,50<br /><br /><br /><br />
DESCRIPTION:<a href='https://www.achterhoekfoto.nl/agenda/item//213350'>https://www.achterhoekfoto.nl/agenda/item//213350</a> || Ontspannen handmassage. Vooraf reserveren bij de receptie. Vol = Vol  € 3,00 WP €2,50
LAST-MODIFIED:20260425T110550Z
LOCATION:Careaz Antoniushove Rapenburgsestraat 33 7131CW Lichtenvoorde
SEQUENCE:0
STATUS:CONFIRMED
SUMMARY:Careaz Antoniushove: Careaz Welness
TRANSP:OPAQUE
END:VEVENT
END:VCALENDAR
