BEGIN:VCALENDAR
PRODID:-//PUBBLE//an agenda//NL
VERSION:2.0
METHOD:PUBLISH
BEGIN:VEVENT
DTSTART:20180621T090000Z
DTEND:20180623T150000Z
DTSTAMP:20260424T111534Z
UID:6bc9a3ef-790a-4893-aaf4-9742ea882f5d
CREATED:20260424T111534Z
URL:https://www.achterhoekfoto.nl/agenda/item/213305
NAME:Dorpskerk Vorden: Tentoonstelling. AchterhoekFoto.nl
X-WR-CALNAME:Dorpskerk Vorden: Tentoonstelling. AchterhoekFoto.nl
X-ALT-DESC;FMTTYPE=text/html:<a href='https://www.achterhoekfoto.nl/agenda/item//213305'>https://achterhoekfoto.nl/agenda/item//213305</a> || <p>Schilderijen en schaakspelen van Frans Mellink </p>
DESCRIPTION:<a href='https://www.achterhoekfoto.nl/agenda/item//213305'>https://www.achterhoekfoto.nl/agenda/item//213305</a> || Schilderijen en schaakspelen van Frans Mellink 
LAST-MODIFIED:20260424T111534Z
LOCATION:Dorpskerk Vorden Kerkstraat 4 7251BC Vorden
SEQUENCE:0
STATUS:CONFIRMED
SUMMARY:Dorpskerk Vorden: Tentoonstelling.
TRANSP:OPAQUE
END:VEVENT
END:VCALENDAR
