BEGIN:VCALENDAR
PRODID:-//PUBBLE//an agenda//NL
VERSION:2.0
METHOD:PUBLISH
BEGIN:VEVENT
DTSTART:20180823T090000Z
DTEND:20180823T100000Z
DTSTAMP:20260425T174754Z
UID:87cd15ad-af3e-48f8-8728-809cf7c90119
CREATED:20260425T174754Z
URL:https://www.achterhoekfoto.nl/agenda/item/213250
NAME:Rondleiding touwslagerij Steenbergen AchterhoekFoto.nl
X-WR-CALNAME:Rondleiding touwslagerij Steenbergen AchterhoekFoto.nl
X-ALT-DESC;FMTTYPE=text/html:<a href='https://www.achterhoekfoto.nl/agenda/item//213250'>https://achterhoekfoto.nl/agenda/item//213250</a> || <p>Interessante en leerzame rondleiding waar de oude ambacht met moderne inzichten wordt gecombineerd. Het touw dat hier gemaakt wordt verder verwerkt tot bv klimtouwen, netten maar ook designartikelen voor ontwerpster Christien Meindertsma die de hele wereld over gaan.</p>
DESCRIPTION:<a href='https://www.achterhoekfoto.nl/agenda/item//213250'>https://www.achterhoekfoto.nl/agenda/item//213250</a> || Interessante en leerzame rondleiding waar de oude ambacht met moderne inzichten wordt gecombineerd. Het touw dat hier gemaakt wordt verder verwerkt tot bv klimtouwen, netten maar ook designartikelen voor ontwerpster Christien Meindertsma die de hele wereld over gaan.
LAST-MODIFIED:20260425T174754Z
LOCATION:Touwslagerij Steenbergen Veldhofstraat 10a 7213AL Gorssel
SEQUENCE:0
STATUS:CONFIRMED
SUMMARY:Rondleiding touwslagerij Steenbergen
TRANSP:OPAQUE
END:VEVENT
END:VCALENDAR
