BEGIN:VCALENDAR
PRODID:-//PUBBLE//an agenda//NL
VERSION:2.0
METHOD:PUBLISH
BEGIN:VEVENT
DTSTART:20180817T200000Z
DTEND:20180817T215900Z
DTSTAMP:20260423T184333Z
UID:ec1568fb-5343-443d-b84a-249e84faf615
CREATED:20260423T184333Z
URL:https://www.achterhoekfoto.nl/agenda/item/213246
NAME:Zomeravondconcert Bach bij nacht in Gudulakerk Lochem AchterhoekFoto.nl
X-WR-CALNAME:Zomeravondconcert Bach bij nacht in Gudulakerk Lochem AchterhoekFoto.nl
X-ALT-DESC;FMTTYPE=text/html:<a href='https://www.achterhoekfoto.nl/agenda/item//213246'>https://achterhoekfoto.nl/agenda/item//213246</a> || Bach bij nacht , Nachtconcert bij kaarslicht door Els Dijkerman/Jeanette Pol.

De mooiste orgelwerken van J.S. Bach. Dromerige koralen, luchtige concerto’s en – het meeste bekende werk – de overrompelende Toccata en Fuga in d moll aangevuld met een fluitconcert, voeren de luisteraars langs alle gemoedsschakeringen. Het concert kan comfortabel zittend worden beluisterd. Maar wie dat wil, kan een ligmat, deken, matras of ligstoel etc. meenemen om lekker liggend het nachtconcert te beluisteren.



DESCRIPTION:<a href='https://www.achterhoekfoto.nl/agenda/item//213246'>https://www.achterhoekfoto.nl/agenda/item//213246</a> || Bach bij nacht , Nachtconcert bij kaarslicht door Els Dijkerman/Jeanette Pol.

De mooiste orgelwerken van J.S. Bach. Dromerige koralen, luchtige concerto’s en – het meeste bekende werk – de overrompelende Toccata en Fuga in d moll aangevuld met een fluitconcert, voeren de luisteraars langs alle gemoedsschakeringen. Het concert kan comfortabel zittend worden beluisterd. Maar wie dat wil, kan een ligmat, deken, matras of ligstoel etc. meenemen om lekker liggend het nachtconcert te beluisteren.



LAST-MODIFIED:20260423T184333Z
LOCATION:Gudulakerk Markt  1 7241AA Lochem
SEQUENCE:0
STATUS:CONFIRMED
SUMMARY:Zomeravondconcert Bach bij nacht in Gudulakerk Lochem
TRANSP:OPAQUE
END:VEVENT
END:VCALENDAR
