BEGIN:VCALENDAR
PRODID:-//PUBBLE//an agenda//NL
VERSION:2.0
METHOD:PUBLISH
BEGIN:VEVENT
DTSTART:20180822T180000Z
DTEND:20180822T200000Z
DTSTAMP:20260425T133912Z
UID:319212af-c971-4595-a368-760b227b735e
CREATED:20260425T133912Z
URL:https://www.achterhoekfoto.nl/agenda/item/213216
NAME:Moonlight varen met de Berkelzomp AchterhoekFoto.nl
X-WR-CALNAME:Moonlight varen met de Berkelzomp AchterhoekFoto.nl
X-ALT-DESC;FMTTYPE=text/html:<a href='https://www.achterhoekfoto.nl/agenda/item//213216'>https://achterhoekfoto.nl/agenda/item//213216</a> || <p>Moonlight vaartocht met de Berkelzomp in Lochem!
Wat is mooier en romantischer, dan varen bij de ondergaande zon? Dan is Berkel op zijn mooist. Voel de totale ontspanning van het varen en zie de zon langzaam verdwijnen achter de horizon. Deze tochten worden gehouden bij mooie zomeravonden in augustus. De schippers serveren je ook nog een heerlijk Berkelbittertje aan boord.</p>
DESCRIPTION:<a href='https://www.achterhoekfoto.nl/agenda/item//213216'>https://www.achterhoekfoto.nl/agenda/item//213216</a> || Moonlight vaartocht met de Berkelzomp in Lochem!
Wat is mooier en romantischer, dan varen bij de ondergaande zon? Dan is Berkel op zijn mooist. Voel de totale ontspanning van het varen en zie de zon langzaam verdwijnen achter de horizon. Deze tochten worden gehouden bij mooie zomeravonden in augustus. De schippers serveren je ook nog een heerlijk Berkelbittertje aan boord.
LAST-MODIFIED:20260425T133912Z
LOCATION: Ecologische Stapsteen Stijgoord Stijgoord 2 7241DC Lochem
SEQUENCE:0
STATUS:CONFIRMED
SUMMARY:Moonlight varen met de Berkelzomp
TRANSP:OPAQUE
END:VEVENT
END:VCALENDAR
