BEGIN:VCALENDAR
PRODID:-//PUBBLE//an agenda//NL
VERSION:2.0
METHOD:PUBLISH
BEGIN:VEVENT
DTSTART:20180820T180000Z
DTEND:20180820T200000Z
DTSTAMP:20260424T222218Z
UID:8f4b889c-bb93-438e-9cb1-2ff72eed80b6
CREATED:20260424T222218Z
URL:https://www.achterhoekfoto.nl/agenda/item/213210
NAME:Moonlight varen met de Berkelzomp AchterhoekFoto.nl
X-WR-CALNAME:Moonlight varen met de Berkelzomp AchterhoekFoto.nl
X-ALT-DESC;FMTTYPE=text/html:<a href='https://www.achterhoekfoto.nl/agenda/item//213210'>https://achterhoekfoto.nl/agenda/item//213210</a> || <p>Moonlight vaartocht met de Berkelzomp in Lochem!
Wat is mooier en romantischer, dan varen bij de ondergaande zon? Dan is Berkel op zijn mooist. Voel de totale ontspanning van het varen en zie de zon langzaam verdwijnen achter de horizon. Deze tochten worden gehouden bij mooie zomeravonden in augustus. De schippers serveren je ook nog een heerlijk Berkelbittertje aan boord.. Deze tochten worden gehouden bij mooie zomeravonden in augustus. De schippers serveren je ook nog een heerlijk Berkelbittertje aan boord.</p>
DESCRIPTION:<a href='https://www.achterhoekfoto.nl/agenda/item//213210'>https://www.achterhoekfoto.nl/agenda/item//213210</a> || Moonlight vaartocht met de Berkelzomp in Lochem!
Wat is mooier en romantischer, dan varen bij de ondergaande zon? Dan is Berkel op zijn mooist. Voel de totale ontspanning van het varen en zie de zon langzaam verdwijnen achter de horizon. Deze tochten worden gehouden bij mooie zomeravonden in augustus. De schippers serveren je ook nog een heerlijk Berkelbittertje aan boord.. Deze tochten worden gehouden bij mooie zomeravonden in augustus. De schippers serveren je ook nog een heerlijk Berkelbittertje aan boord.
LAST-MODIFIED:20260424T222218Z
LOCATION: Ecologische Stapsteen Stijgoord Stijgoord 2 7241DC Lochem
SEQUENCE:0
STATUS:CONFIRMED
SUMMARY:Moonlight varen met de Berkelzomp
TRANSP:OPAQUE
END:VEVENT
END:VCALENDAR
