BEGIN:VCALENDAR
PRODID:-//PUBBLE//an agenda//NL
VERSION:2.0
METHOD:PUBLISH
BEGIN:VEVENT
DTSTART:20180817T180000Z
DTEND:20180817T200000Z
DTSTAMP:20260423T155939Z
UID:ba5c6d0a-a200-4845-b472-9d2f942dec43
CREATED:20260423T155939Z
URL:https://www.achterhoekfoto.nl/agenda/item/213203
NAME:Moonlight varen met de Berkelzomp AchterhoekFoto.nl
X-WR-CALNAME:Moonlight varen met de Berkelzomp AchterhoekFoto.nl
X-ALT-DESC;FMTTYPE=text/html:<a href='https://www.achterhoekfoto.nl/agenda/item//213203'>https://achterhoekfoto.nl/agenda/item//213203</a> || <p>Moonlight vaartocht met de Berkelzomp in Lochem!
Wat is mooier en romantischer, dan varen bij de ondergaande zon? Dan is Berkel op zijn mooist. Voel de totale ontspanning van het varen en zie de zon langzaam verdwijnen achter de horizon. Deze tochten worden gehouden bij mooie zomeravonden in augustus. De schippers serveren je ook nog een heerlijk Berkelbittertje aan boord.</p>
DESCRIPTION:<a href='https://www.achterhoekfoto.nl/agenda/item//213203'>https://www.achterhoekfoto.nl/agenda/item//213203</a> || Moonlight vaartocht met de Berkelzomp in Lochem!
Wat is mooier en romantischer, dan varen bij de ondergaande zon? Dan is Berkel op zijn mooist. Voel de totale ontspanning van het varen en zie de zon langzaam verdwijnen achter de horizon. Deze tochten worden gehouden bij mooie zomeravonden in augustus. De schippers serveren je ook nog een heerlijk Berkelbittertje aan boord.
LAST-MODIFIED:20260423T155939Z
LOCATION: Ecologische Stapsteen Stijgoord Stijgoord 2 7241DC Lochem
SEQUENCE:0
STATUS:CONFIRMED
SUMMARY:Moonlight varen met de Berkelzomp
TRANSP:OPAQUE
END:VEVENT
END:VCALENDAR
