BEGIN:VCALENDAR
PRODID:-//PUBBLE//an agenda//NL
VERSION:2.0
METHOD:PUBLISH
BEGIN:VEVENT
DTSTART:20180620T090000Z
DTEND:20180620T144500Z
DTSTAMP:20260424T024442Z
UID:3524cc22-836b-4ee5-893d-272550e630ae
CREATED:20260424T024442Z
URL:https://www.achterhoekfoto.nl/agenda/item/213191
NAME:Tentoonstelling.  AchterhoekFoto.nl
X-WR-CALNAME:Tentoonstelling.  AchterhoekFoto.nl
X-ALT-DESC;FMTTYPE=text/html:<a href='https://www.achterhoekfoto.nl/agenda/item//213191'>https://achterhoekfoto.nl/agenda/item//213191</a> || <p>Schilderijen en schaakspelen van Frans Mellink</p>
DESCRIPTION:<a href='https://www.achterhoekfoto.nl/agenda/item//213191'>https://www.achterhoekfoto.nl/agenda/item//213191</a> || Schilderijen en schaakspelen van Frans Mellink
LAST-MODIFIED:20260424T024442Z
LOCATION:Dorpskerk Vorden Kerkstraat 4 7251BC Vorden
SEQUENCE:0
STATUS:CONFIRMED
SUMMARY:Tentoonstelling. 
TRANSP:OPAQUE
END:VEVENT
END:VCALENDAR
