BEGIN:VCALENDAR
PRODID:-//PUBBLE//an agenda//NL
VERSION:2.0
METHOD:PUBLISH
BEGIN:VEVENT
DTSTART:20180616T120000Z
DTEND:20180616T140000Z
DTSTAMP:20260422T160010Z
UID:8ced2c55-4126-449c-a571-e837aaa6c6d9
CREATED:20260422T160010Z
URL:https://www.achterhoekfoto.nl/agenda/item/212935
NAME:Fietstocht Droebeldorp Zieuwent (15/20km) AchterhoekFoto.nl
X-WR-CALNAME:Fietstocht Droebeldorp Zieuwent (15/20km) AchterhoekFoto.nl
X-ALT-DESC;FMTTYPE=text/html:<a href='https://www.achterhoekfoto.nl/agenda/item//212935'>https://achterhoekfoto.nl/agenda/item//212935</a> || Droebels bekijken onder leiding van een gids en genieten van verhalen over de historie, cultuur en natuur van Zieuwent.
In het Zieuwentse landschap vallen al snel de groepjes boerderijen op, omgeven door uitgestrekte weilanden. Ze worden droebels genoemd. Het woord ‘droebel’ betekent: iets dicht op elkaar, een groepje, een kluwen. Het huis van de stichter is het stamhuis en latere bebouwing is familiegerelateerd. 
Al in 1059 wordt er gesproken over Syenwede. Dit betekent zoveel als laaggelegen weide of bos. 
Rond 1600 bestond Zieuwent uit circa veertig verspreid liggende groepjes boerderijen met bouwland, de droebels, en de weilanden ertussen. Ook nu nog kunnen we enkele van deze droebels herkennen in het landschap. Helaas niet meer alle droebels, want veel is er veranderd in de loop der tijden. Momenteel kunnen we nog 21 droebels herkennen in Zieuwent en in het buurdorp Mariënvelde, dat vroeger Achter Zieuwent heette. Onder meer: De Platveute, de Wopereis en ’t Hoenderboom. Uit deze laatste droebel is het dorp Zieuwent ontstaan.
Naoberschap
Een droebel was een buurtschapje op zich. Naoberhulp was het hoogste goed. En ook nu nog is naoberhulp een begrip dat ingebakken is in de mentaliteit van de Zieuwentse bevolking.
Auteur: Cecile Hulshof, Oudheidkundige Vereniging Zuwent.
DESCRIPTION:<a href='https://www.achterhoekfoto.nl/agenda/item//212935'>https://www.achterhoekfoto.nl/agenda/item//212935</a> || Droebels bekijken onder leiding van een gids en genieten van verhalen over de historie, cultuur en natuur van Zieuwent.
In het Zieuwentse landschap vallen al snel de groepjes boerderijen op, omgeven door uitgestrekte weilanden. Ze worden droebels genoemd. Het woord ‘droebel’ betekent: iets dicht op elkaar, een groepje, een kluwen. Het huis van de stichter is het stamhuis en latere bebouwing is familiegerelateerd. 
Al in 1059 wordt er gesproken over Syenwede. Dit betekent zoveel als laaggelegen weide of bos. 
Rond 1600 bestond Zieuwent uit circa veertig verspreid liggende groepjes boerderijen met bouwland, de droebels, en de weilanden ertussen. Ook nu nog kunnen we enkele van deze droebels herkennen in het landschap. Helaas niet meer alle droebels, want veel is er veranderd in de loop der tijden. Momenteel kunnen we nog 21 droebels herkennen in Zieuwent en in het buurdorp Mariënvelde, dat vroeger Achter Zieuwent heette. Onder meer: De Platveute, de Wopereis en ’t Hoenderboom. Uit deze laatste droebel is het dorp Zieuwent ontstaan.
Naoberschap
Een droebel was een buurtschapje op zich. Naoberhulp was het hoogste goed. En ook nu nog is naoberhulp een begrip dat ingebakken is in de mentaliteit van de Zieuwentse bevolking.
Auteur: Cecile Hulshof, Oudheidkundige Vereniging Zuwent.
LAST-MODIFIED:20260422T160010Z
LOCATION:Het Witte Paard Dorpsstraat 49 7136LG Zieuwent
SEQUENCE:0
STATUS:CONFIRMED
SUMMARY:Fietstocht Droebeldorp Zieuwent (15/20km)
TRANSP:OPAQUE
END:VEVENT
END:VCALENDAR
