BEGIN:VCALENDAR
PRODID:-//PUBBLE//an agenda//NL
VERSION:2.0
METHOD:PUBLISH
BEGIN:VEVENT
DTSTART:20180616T220000Z
DTEND:20180617T210000Z
DTSTAMP:20260422T214319Z
UID:0b0c2525-49b8-4a96-9cb6-737ef5b12f7c
CREATED:20260422T214319Z
URL:https://www.achterhoekfoto.nl/agenda/item/212914
NAME:Vliegerfeest op voetbalvelden HC ’03  AchterhoekFoto.nl
X-WR-CALNAME:Vliegerfeest op voetbalvelden HC ’03  AchterhoekFoto.nl
X-ALT-DESC;FMTTYPE=text/html:<a href='https://www.achterhoekfoto.nl/agenda/item//212914'>https://achterhoekfoto.nl/agenda/item//212914</a> || <p>DREMPT - Op zaterdag 7 en zondag 8 juli organiseert ’t Hessenhuus in samenwerking met Dick en Tonny Toonen uit Langerak voor het vierde achtereenvolgende jaar een vliegerfeest op en rond de voetbalvelden van HC ’03. Zo’n zeventig vliegeraars met de meest uiteenlopende vliegers komen daar bijeen en maken er samen een uniek en gratis
 toegankelijk evenement van voor zowel jong als oud.
 Het bestuur van multifunctionele accommodatie ’t Hessenhuus, ook het clubhuis van voetbalvereniging HC ’03, wilde vier jaar geleden graag een evenement organiseren voor het hele gezin. Rick Toonen, de zoon van Dick en Tonny, voetbalde destijds bij HC’03 en zodoende kwam het echtpaar in contact met de organisatie. In het tweede weekend van juli vindt daar voor de vierde keer op rij een spectaculair vliegerfeest plaats. ‘De voetbalvelden lenen zich
 uitstekend voor zo’n evenement’, vertelt Dick Toonen die zelf al ruim 25 jaar fanatiek vliegeraar is en zijn eigen vliegers ontwerpt en zelf maakt op de naaimachine. 
</p>
DESCRIPTION:<a href='https://www.achterhoekfoto.nl/agenda/item//212914'>https://www.achterhoekfoto.nl/agenda/item//212914</a> || DREMPT - Op zaterdag 7 en zondag 8 juli organiseert ’t Hessenhuus in samenwerking met Dick en Tonny Toonen uit Langerak voor het vierde achtereenvolgende jaar een vliegerfeest op en rond de voetbalvelden van HC ’03. Zo’n zeventig vliegeraars met de meest uiteenlopende vliegers komen daar bijeen en maken er samen een uniek en gratis
 toegankelijk evenement van voor zowel jong als oud.
 Het bestuur van multifunctionele accommodatie ’t Hessenhuus, ook het clubhuis van voetbalvereniging HC ’03, wilde vier jaar geleden graag een evenement organiseren voor het hele gezin. Rick Toonen, de zoon van Dick en Tonny, voetbalde destijds bij HC’03 en zodoende kwam het echtpaar in contact met de organisatie. In het tweede weekend van juli vindt daar voor de vierde keer op rij een spectaculair vliegerfeest plaats. ‘De voetbalvelden lenen zich
 uitstekend voor zo’n evenement’, vertelt Dick Toonen die zelf al ruim 25 jaar fanatiek vliegeraar is en zijn eigen vliegers ontwerpt en zelf maakt op de naaimachine. 

LAST-MODIFIED:20260422T214319Z
LOCATION:'t Hessenhuus Zomerweg 19a 6996dd Hummelo
SEQUENCE:0
STATUS:CONFIRMED
SUMMARY:Vliegerfeest op voetbalvelden HC ’03 
TRANSP:OPAQUE
END:VEVENT
END:VCALENDAR
