BEGIN:VCALENDAR
PRODID:-//PUBBLE//an agenda//NL
VERSION:2.0
METHOD:PUBLISH
BEGIN:VEVENT
DTSTART:20180621T083000Z
DTEND:20180621T150000Z
DTSTAMP:20260424T100232Z
UID:a313d1a1-8fc7-4f44-8b44-8300d122c4e8
CREATED:20260424T100232Z
URL:https://www.achterhoekfoto.nl/agenda/item/212810
NAME:Weekmarkt 's-Heerenberg AchterhoekFoto.nl
X-WR-CALNAME:Weekmarkt 's-Heerenberg AchterhoekFoto.nl
X-ALT-DESC;FMTTYPE=text/html:<a href='https://www.achterhoekfoto.nl/agenda/item//212810'>https://achterhoekfoto.nl/agenda/item//212810</a> || De weekmarkt vindt iedere donderdag plaats op het Stadplein, omringt door gezellige terrasjes in het mooie centrum van Kasteelstad ’s-Heerenberg.  De organisatie van de markt is in handen van de gemeente Montferland. 

De markttijden zijn van 10.30 uur tot 17.00 uur.
DESCRIPTION:<a href='https://www.achterhoekfoto.nl/agenda/item//212810'>https://www.achterhoekfoto.nl/agenda/item//212810</a> || De weekmarkt vindt iedere donderdag plaats op het Stadplein, omringt door gezellige terrasjes in het mooie centrum van Kasteelstad ’s-Heerenberg.  De organisatie van de markt is in handen van de gemeente Montferland. 

De markttijden zijn van 10.30 uur tot 17.00 uur.
LAST-MODIFIED:20260424T100232Z
LOCATION:Stadsplein Stadsplein - 7041AM s-Heerenberg
SEQUENCE:0
STATUS:CONFIRMED
SUMMARY:Weekmarkt 's-Heerenberg
TRANSP:OPAQUE
END:VEVENT
END:VCALENDAR
