BEGIN:VCALENDAR
PRODID:-//PUBBLE//an agenda//NL
VERSION:2.0
METHOD:PUBLISH
BEGIN:VEVENT
DTSTART:20180615T083000Z
DTEND:20180615T153000Z
DTSTAMP:20260422T060852Z
UID:07d87f25-a083-4d48-83ae-8fc464add5ee
CREATED:20260422T060852Z
URL:https://www.achterhoekfoto.nl/agenda/item/212767
NAME:Weekmarkt - Didam AchterhoekFoto.nl
X-WR-CALNAME:Weekmarkt - Didam AchterhoekFoto.nl
X-ALT-DESC;FMTTYPE=text/html:<a href='https://www.achterhoekfoto.nl/agenda/item//212767'>https://achterhoekfoto.nl/agenda/item//212767</a> || In Nederland zijn nog twee overdekte markthallen waar een echte weekmarkt plaatsvindt. De uit 1951 daterende markthal in Didam is er daar één van. 
Elke vrijdag van 10.30 tot 17.30 uur verkopen marktlieden verse producten zoals vis, kaas, groenten, bloemen en brood plaats. Maar ook kan men terecht voor sieraden, snuisterijen en kleding.
DESCRIPTION:<a href='https://www.achterhoekfoto.nl/agenda/item//212767'>https://www.achterhoekfoto.nl/agenda/item//212767</a> || In Nederland zijn nog twee overdekte markthallen waar een echte weekmarkt plaatsvindt. De uit 1951 daterende markthal in Didam is er daar één van. 
Elke vrijdag van 10.30 tot 17.30 uur verkopen marktlieden verse producten zoals vis, kaas, groenten, bloemen en brood plaats. Maar ook kan men terecht voor sieraden, snuisterijen en kleding.
LAST-MODIFIED:20260422T060852Z
LOCATION:VVV Montferland Marktplein 3  Didam
SEQUENCE:0
STATUS:CONFIRMED
SUMMARY:Weekmarkt - Didam
TRANSP:OPAQUE
END:VEVENT
END:VCALENDAR
