BEGIN:VCALENDAR
PRODID:-//PUBBLE//an agenda//NL
VERSION:2.0
METHOD:PUBLISH
BEGIN:VEVENT
DTSTART:20180823T173000Z
DTEND:20180823T190000Z
DTSTAMP:20260426T034419Z
UID:81fe1d41-b927-4c4b-bbb7-c4cead664a5d
CREATED:20260426T034419Z
URL:https://www.achterhoekfoto.nl/agenda/item/212662
NAME:MargaKlompé: De Molenberg: Optreden van Dejavu AchterhoekFoto.nl
X-WR-CALNAME:MargaKlompé: De Molenberg: Optreden van Dejavu AchterhoekFoto.nl
X-ALT-DESC;FMTTYPE=text/html:<a href='https://www.achterhoekfoto.nl/agenda/item//212662'>https://achterhoekfoto.nl/agenda/item//212662</a> || Dejavu verzorgt een mooie avond met  muziek. Kaartje kost  € 3,50 voor gasten, incl. consumptie.<br /><br />https://www.facebook.com/demolenberg/<br /><br />
DESCRIPTION:<a href='https://www.achterhoekfoto.nl/agenda/item//212662'>https://www.achterhoekfoto.nl/agenda/item//212662</a> || Dejavu verzorgt een mooie avond met  muziek. Kaartje kost  € 3,50 voor gasten, incl. consumptie.https://www.facebook.com/demolenberg/
LAST-MODIFIED:20260426T034419Z
LOCATION:Stichting Zorgcombinatie Marga Klompé Ziekenhuisstraat 14 7141AN Groenlo
SEQUENCE:0
STATUS:CONFIRMED
SUMMARY:MargaKlompé: De Molenberg: Optreden van Dejavu
TRANSP:OPAQUE
END:VEVENT
END:VCALENDAR
