BEGIN:VCALENDAR
PRODID:-//PUBBLE//an agenda//NL
VERSION:2.0
METHOD:PUBLISH
BEGIN:VEVENT
DTSTART:20180621T110000Z
DTEND:20180621T140000Z
DTSTAMP:20260424T123520Z
UID:671894ce-75ec-4955-91f7-805c4b71f073
CREATED:20260424T123520Z
URL:https://www.achterhoekfoto.nl/agenda/item/212575
NAME:Repair Café Doetinchem 21-6-2018 vervalt! AchterhoekFoto.nl
X-WR-CALNAME:Repair Café Doetinchem 21-6-2018 vervalt! AchterhoekFoto.nl
X-ALT-DESC;FMTTYPE=text/html:<a href='https://www.achterhoekfoto.nl/agenda/item//212575'>https://achterhoekfoto.nl/agenda/item//212575</a> || <p>DE ZITTING VAN 21 JUNI VERVALT, DE STADSKAMER IS DIE DAG OM 12.00 UUR GESLOTEN. 28 JUNI BENT U WEER WELKOM OP DE ZITTING VAN REPAIR CAFÉ DOETINCHEM!</p>
DESCRIPTION:<a href='https://www.achterhoekfoto.nl/agenda/item//212575'>https://www.achterhoekfoto.nl/agenda/item//212575</a> || DE ZITTING VAN 21 JUNI VERVALT, DE STADSKAMER IS DIE DAG OM 12.00 UUR GESLOTEN. 28 JUNI BENT U WEER WELKOM OP DE ZITTING VAN REPAIR CAFÉ DOETINCHEM!
LAST-MODIFIED:20260424T123520Z
LOCATION:Stadskamer Raadhuisstraat 34 7001EW Doetinchem
SEQUENCE:0
STATUS:CONFIRMED
SUMMARY:Repair Café Doetinchem 21-6-2018 vervalt!
TRANSP:OPAQUE
END:VEVENT
END:VCALENDAR
