BEGIN:VCALENDAR
PRODID:-//PUBBLE//an agenda//NL
VERSION:2.0
METHOD:PUBLISH
BEGIN:VEVENT
DTSTART:20180818T080000Z
DTEND:20180819T150000Z
DTSTAMP:20260424T024441Z
UID:19a31668-9f5b-4a98-bbae-1ab74e330ad1
CREATED:20260424T024441Z
URL:https://www.achterhoekfoto.nl/agenda/item/212353
NAME:Very British Home & Garden - Rosenhage Living Gardens AchterhoekFoto.nl
X-WR-CALNAME:Very British Home & Garden - Rosenhage Living Gardens AchterhoekFoto.nl
X-ALT-DESC;FMTTYPE=text/html:<a href='https://www.achterhoekfoto.nl/agenda/item//212353'>https://achterhoekfoto.nl/agenda/item//212353</a> || <p>Op de grens van Nederland en Duitsland in de stilte van het coulisselandschap is een ”place to be” ontstaan die u niet mag missen. Er zijn 4,5 ha. kijk- en voorbeeldtuinen, o.a. de 'cottagegarden' met border van Monet, de landschappelijke tuinen met lavendelheuvel, 'Land-Art', het grassenpark en natuurgebied.

In het weekend van 18 en 19 augustus organiseert Rosenhaege Living Gardens 'Very British Home & Garden'. 

Modeshow britse kleding
Verkoop britse kleding
Verschillende standhouders
Zondags Drum & Pipe band
</p>
DESCRIPTION:<a href='https://www.achterhoekfoto.nl/agenda/item//212353'>https://www.achterhoekfoto.nl/agenda/item//212353</a> || Op de grens van Nederland en Duitsland in de stilte van het coulisselandschap is een ”place to be” ontstaan die u niet mag missen. Er zijn 4,5 ha. kijk- en voorbeeldtuinen, o.a. de 'cottagegarden' met border van Monet, de landschappelijke tuinen met lavendelheuvel, 'Land-Art', het grassenpark en natuurgebied.

In het weekend van 18 en 19 augustus organiseert Rosenhaege Living Gardens 'Very British Home & Garden'. 

Modeshow britse kleding
Verkoop britse kleding
Verschillende standhouders
Zondags Drum & Pipe band

LAST-MODIFIED:20260424T024441Z
LOCATION:Rosenhaege Living Gardens Bekeringweg 8 7107AM Winterswijk
SEQUENCE:0
STATUS:CONFIRMED
SUMMARY:Very British Home & Garden - Rosenhage Living Gardens
TRANSP:OPAQUE
END:VEVENT
END:VCALENDAR
