BEGIN:VCALENDAR
PRODID:-//PUBBLE//an agenda//NL
VERSION:2.0
METHOD:PUBLISH
BEGIN:VEVENT
DTSTART:20180617T100000Z
DTEND:20180617T140000Z
DTSTAMP:20260423T081704Z
UID:673742e9-87b5-4731-8ebc-dc4ca864d78c
CREATED:20260423T081704Z
URL:https://www.achterhoekfoto.nl/agenda/item/212248
NAME:Electric Experience AchterhoekFoto.nl
X-WR-CALNAME:Electric Experience AchterhoekFoto.nl
X-ALT-DESC;FMTTYPE=text/html:<a href='https://www.achterhoekfoto.nl/agenda/item//212248'>https://achterhoekfoto.nl/agenda/item//212248</a> || <p>Op 17 juni a.s. organiseert emovia een groots evenement rond elektrisch rijden op de Grote Markt in Lochem (stad): een Electric Experience. Van 12 tot 16 uur kunt u zich laten informeren over elektrisch rijden, maar leuker nog: u kunt het ook zelf beleven! Iedereen met een geldig rijbewijs mag in tal van verschillende elektrische merken en modellen proefritten maken, bijvoorbeeld een BMW i3 of een Nissan Leaf. Een unieke mogelijkheid dus om verschillende modellen direct met elkaar te vergelijken. Behalve elektrische auto’s zijn er ook elektrische motorbikes, scooters én een bijzondere fiets: de Lynx Bike. Volg op www.emovia.nl welke voertuigen er allemaal zullen zijn.</p>
DESCRIPTION:<a href='https://www.achterhoekfoto.nl/agenda/item//212248'>https://www.achterhoekfoto.nl/agenda/item//212248</a> || Op 17 juni a.s. organiseert emovia een groots evenement rond elektrisch rijden op de Grote Markt in Lochem (stad): een Electric Experience. Van 12 tot 16 uur kunt u zich laten informeren over elektrisch rijden, maar leuker nog: u kunt het ook zelf beleven! Iedereen met een geldig rijbewijs mag in tal van verschillende elektrische merken en modellen proefritten maken, bijvoorbeeld een BMW i3 of een Nissan Leaf. Een unieke mogelijkheid dus om verschillende modellen direct met elkaar te vergelijken. Behalve elektrische auto’s zijn er ook elektrische motorbikes, scooters én een bijzondere fiets: de Lynx Bike. Volg op www.emovia.nl welke voertuigen er allemaal zullen zijn.
LAST-MODIFIED:20260423T081704Z
LOCATION:Kleine Markt Bierstraat 2 7241AG Lochem
SEQUENCE:0
STATUS:CONFIRMED
SUMMARY:Electric Experience
TRANSP:OPAQUE
END:VEVENT
END:VCALENDAR
