BEGIN:VCALENDAR
PRODID:-//PUBBLE//an agenda//NL
VERSION:2.0
METHOD:PUBLISH
BEGIN:VEVENT
DTSTART:20180620T170000Z
DTEND:20180620T190000Z
DTSTAMP:20260424T083950Z
UID:852d898d-357e-44b3-b22e-6a0a934a6af6
CREATED:20260424T083950Z
URL:https://www.achterhoekfoto.nl/agenda/item/212231
NAME:Alzheimer Cafe AchterhoekFoto.nl
X-WR-CALNAME:Alzheimer Cafe AchterhoekFoto.nl
X-ALT-DESC;FMTTYPE=text/html:<a href='https://www.achterhoekfoto.nl/agenda/item//212231'>https://achterhoekfoto.nl/agenda/item//212231</a> || <p>Thema van de maand juni: de rol van therapiehonden bij mensen met dementie
Op 20 juni is Jolanda Scherpenhuizen te gast in het Alzheimer Café.
Jolanda is hondenbegeleider bij Sutfene met haar honden Lola en Sammy.
Deze therapiehonden zijn speciaal getraind in het omgaan met mensen die bijvoorbeeld ziek, verdrietig, in zichzelf gekeerd of gespannen zijn.
Jolanda laat zien hoe de honden ingezet kunnen worden bij mensen met dementie.
Ook geeft zij uitleg over de rol van huisdieren en hoe de zorg mogelijk blijft als er sprake is van dementie.
</p>
DESCRIPTION:<a href='https://www.achterhoekfoto.nl/agenda/item//212231'>https://www.achterhoekfoto.nl/agenda/item//212231</a> || Thema van de maand juni: de rol van therapiehonden bij mensen met dementie
Op 20 juni is Jolanda Scherpenhuizen te gast in het Alzheimer Café.
Jolanda is hondenbegeleider bij Sutfene met haar honden Lola en Sammy.
Deze therapiehonden zijn speciaal getraind in het omgaan met mensen die bijvoorbeeld ziek, verdrietig, in zichzelf gekeerd of gespannen zijn.
Jolanda laat zien hoe de honden ingezet kunnen worden bij mensen met dementie.
Ook geeft zij uitleg over de rol van huisdieren en hoe de zorg mogelijk blijft als er sprake is van dementie.

LAST-MODIFIED:20260424T083950Z
LOCATION:Diverse locaties in en om Zutphen  Houtmarkt 75 7201KL Zutphen
SEQUENCE:0
STATUS:CONFIRMED
SUMMARY:Alzheimer Cafe
TRANSP:OPAQUE
END:VEVENT
END:VCALENDAR
