BEGIN:VCALENDAR
PRODID:-//PUBBLE//an agenda//NL
VERSION:2.0
METHOD:PUBLISH
BEGIN:VEVENT
DTSTART:20180622T081500Z
DTEND:20180622T110000Z
DTSTAMP:20260424T230906Z
UID:48df1045-1b4e-4296-914e-d0f0cf0448e8
CREATED:20260424T230906Z
URL:https://www.achterhoekfoto.nl/agenda/item/212111
NAME:Meditatief wandelen in Slangenburg AchterhoekFoto.nl
X-WR-CALNAME:Meditatief wandelen in Slangenburg AchterhoekFoto.nl
X-ALT-DESC;FMTTYPE=text/html:<a href='https://www.achterhoekfoto.nl/agenda/item//212111'>https://achterhoekfoto.nl/agenda/item//212111</a> || <p>Spoorzoeken in Slangenburg biedt op vrijdag 22 juni een meditatieve natuurwandeling aan vanuit het Slangenburgse kerkje aan de IJzevoordseweg 35, Doetinchem.
Ontvangst met koffie vanaf 10.15 uur. Van 10.45 tot 11.00 uur een kort meditatief moment waarin een gedicht, een gedachte  of een tekst wordt aangereikt, waarna grotendeels in stilte, deels in gesprek met elkaar een uur wordt gewandeld  in de mooie Slangenburgse natuur in de omgeving. Duur tot 13.00 uur inclusief gezamenlijke lunch met meegebracht brood na de wandeling. Opgave vooraf is niet nodig, kosten 3 euro. Als u met een grotere groep wilt deelnemen, meld u dan graag wel van tevoren via 0315 237788.

www.spoorzoekenslangenburg.nl
</p>
DESCRIPTION:<a href='https://www.achterhoekfoto.nl/agenda/item//212111'>https://www.achterhoekfoto.nl/agenda/item//212111</a> || Spoorzoeken in Slangenburg biedt op vrijdag 22 juni een meditatieve natuurwandeling aan vanuit het Slangenburgse kerkje aan de IJzevoordseweg 35, Doetinchem.
Ontvangst met koffie vanaf 10.15 uur. Van 10.45 tot 11.00 uur een kort meditatief moment waarin een gedicht, een gedachte  of een tekst wordt aangereikt, waarna grotendeels in stilte, deels in gesprek met elkaar een uur wordt gewandeld  in de mooie Slangenburgse natuur in de omgeving. Duur tot 13.00 uur inclusief gezamenlijke lunch met meegebracht brood na de wandeling. Opgave vooraf is niet nodig, kosten 3 euro. Als u met een grotere groep wilt deelnemen, meld u dan graag wel van tevoren via 0315 237788.

www.spoorzoekenslangenburg.nl

LAST-MODIFIED:20260424T230906Z
LOCATION:Protestantse Gemeente: Slangenburgse kerk IJzevoordseweg 35 7004HX Doetinchem
SEQUENCE:0
STATUS:CONFIRMED
SUMMARY:Meditatief wandelen in Slangenburg
TRANSP:OPAQUE
END:VEVENT
END:VCALENDAR
