BEGIN:VCALENDAR
PRODID:-//PUBBLE//an agenda//NL
VERSION:2.0
METHOD:PUBLISH
BEGIN:VEVENT
DTSTART:20180615T081500Z
DTEND:20180615T110000Z
DTSTAMP:20260422T044329Z
UID:e504eeba-94ba-41a3-9a56-71f5e6ec4926
CREATED:20260422T044329Z
URL:https://www.achterhoekfoto.nl/agenda/item/212109
NAME:Meditatief wandelen in Slangenburg AchterhoekFoto.nl
X-WR-CALNAME:Meditatief wandelen in Slangenburg AchterhoekFoto.nl
X-ALT-DESC;FMTTYPE=text/html:<a href='https://www.achterhoekfoto.nl/agenda/item//212109'>https://achterhoekfoto.nl/agenda/item//212109</a> || <p>Spoorzoeken in Slangenburg biedt op vrijdag  15 juni een meditatieve natuurwandeling aan vanuit het Slangenburgse kerkje aan de IJzevoordseweg 35, Doetinchem.
Ontvangst met koffie vanaf 10.15 uur. Van 10.45 tot 11.00 uur een kort meditatief moment waarin een gedicht, een gedachte  of een tekst wordt aangereikt, waarna grotendeels in stilte, deels in gesprek met elkaar een uur wordt gewandeld  in de mooie Slangenburgse natuur in de omgeving. Duur tot 13.00 uur inclusief gezamenlijke lunch met meegebracht brood na de wandeling. Opgave vooraf is niet nodig, kosten 3 euro.

www.spoorzoekenslangenburg.nl
</p>
DESCRIPTION:<a href='https://www.achterhoekfoto.nl/agenda/item//212109'>https://www.achterhoekfoto.nl/agenda/item//212109</a> || Spoorzoeken in Slangenburg biedt op vrijdag  15 juni een meditatieve natuurwandeling aan vanuit het Slangenburgse kerkje aan de IJzevoordseweg 35, Doetinchem.
Ontvangst met koffie vanaf 10.15 uur. Van 10.45 tot 11.00 uur een kort meditatief moment waarin een gedicht, een gedachte  of een tekst wordt aangereikt, waarna grotendeels in stilte, deels in gesprek met elkaar een uur wordt gewandeld  in de mooie Slangenburgse natuur in de omgeving. Duur tot 13.00 uur inclusief gezamenlijke lunch met meegebracht brood na de wandeling. Opgave vooraf is niet nodig, kosten 3 euro.

www.spoorzoekenslangenburg.nl

LAST-MODIFIED:20260422T044329Z
LOCATION:Protestantse Gemeente: Slangenburgse kerk IJzevoordseweg 35 7004HX Doetinchem
SEQUENCE:0
STATUS:CONFIRMED
SUMMARY:Meditatief wandelen in Slangenburg
TRANSP:OPAQUE
END:VEVENT
END:VCALENDAR
