BEGIN:VCALENDAR
PRODID:-//PUBBLE//an agenda//NL
VERSION:2.0
METHOD:PUBLISH
BEGIN:VEVENT
DTSTART:20180617T063000Z
DTEND:20180617T120000Z
DTSTAMP:20260422T230142Z
UID:c2984211-c157-4c2b-984b-2130c8360ac3
CREATED:20260422T230142Z
URL:https://www.achterhoekfoto.nl/agenda/item/212092
NAME:Wandelen met "De Domme Aanleg" op 17 juni  AchterhoekFoto.nl
X-WR-CALNAME:Wandelen met "De Domme Aanleg" op 17 juni  AchterhoekFoto.nl
X-ALT-DESC;FMTTYPE=text/html:<a href='https://www.achterhoekfoto.nl/agenda/item//212092'>https://achterhoekfoto.nl/agenda/item//212092</a> || <p>Hebt u er ook weer zo’n zin in om eens lekker naar buiten te gaan en een mooie wandeling te maken. Dan heeft u geluk want op 17 juni hebben we weer een aantal mooie nieuwe wandelroutes uitgezet.
De afstanden zijn nog niet helemaal bekent maar we proberen alle routes langs onze pauzeplaats te laten komen.
Alle routes beginnen en eindigen bij de Domme Aanleg. De routes lopen zoals u van ons gewend bent ook deels over onverharde paden. Onderweg is er een pauze plek gecreëerd waar o.a. koffie en thee te verkrijgen zal zijn. Ook zal er een mogelijkheid zijn tot toilet bezoek.
Kosten voor de wandeling bedragen €5,00 per persoon. Dit is inclusief een kom heerlijke soep bij terugkomst. Op het pauzepunt is tegen een klein bedrag van €1,00 koffie, thee of frisdrank te verkrijgen.
Alle afstanden zijn vanaf 8:30 uur te starten.

Routes korter dan 10 km kunnen tot 14:00 uur gestart worden.
Routes langer dan 10 km kunnen tot 12:30 uur gestart worden.

Starten bij:
Café Restaurant de Domme Aanleg
Lichtenvoordsestraatweg 87 Barlo/Aalten
Voor vragen of opmerkingen kunt u mailen met:
wandelenmetdommeaanleg@hotmail.com.


</p>
DESCRIPTION:<a href='https://www.achterhoekfoto.nl/agenda/item//212092'>https://www.achterhoekfoto.nl/agenda/item//212092</a> || Hebt u er ook weer zo’n zin in om eens lekker naar buiten te gaan en een mooie wandeling te maken. Dan heeft u geluk want op 17 juni hebben we weer een aantal mooie nieuwe wandelroutes uitgezet.
De afstanden zijn nog niet helemaal bekent maar we proberen alle routes langs onze pauzeplaats te laten komen.
Alle routes beginnen en eindigen bij de Domme Aanleg. De routes lopen zoals u van ons gewend bent ook deels over onverharde paden. Onderweg is er een pauze plek gecreëerd waar o.a. koffie en thee te verkrijgen zal zijn. Ook zal er een mogelijkheid zijn tot toilet bezoek.
Kosten voor de wandeling bedragen €5,00 per persoon. Dit is inclusief een kom heerlijke soep bij terugkomst. Op het pauzepunt is tegen een klein bedrag van €1,00 koffie, thee of frisdrank te verkrijgen.
Alle afstanden zijn vanaf 8:30 uur te starten.

Routes korter dan 10 km kunnen tot 14:00 uur gestart worden.
Routes langer dan 10 km kunnen tot 12:30 uur gestart worden.

Starten bij:
Café Restaurant de Domme Aanleg
Lichtenvoordsestraatweg 87 Barlo/Aalten
Voor vragen of opmerkingen kunt u mailen met:
wandelenmetdommeaanleg@hotmail.com.



LAST-MODIFIED:20260422T230142Z
LOCATION:De Domme Aanleg Lichtenvoordsestraatweg 87 7121rd Aalten
SEQUENCE:0
STATUS:CONFIRMED
SUMMARY:Wandelen met "De Domme Aanleg" op 17 juni 
TRANSP:OPAQUE
END:VEVENT
END:VCALENDAR
