BEGIN:VCALENDAR
PRODID:-//PUBBLE//an agenda//NL
VERSION:2.0
METHOD:PUBLISH
BEGIN:VEVENT
DTSTART:20180620T160000Z
DTEND:20180623T200000Z
DTSTAMP:20260424T072638Z
UID:a32c28cf-9db6-4730-b756-47817c2bba21
CREATED:20260424T072638Z
URL:https://www.achterhoekfoto.nl/agenda/item/212023
NAME:Avond4daagse Lichtenvoorde AchterhoekFoto.nl
X-WR-CALNAME:Avond4daagse Lichtenvoorde AchterhoekFoto.nl
X-ALT-DESC;FMTTYPE=text/html:<a href='https://www.achterhoekfoto.nl/agenda/item//212023'>https://achterhoekfoto.nl/agenda/item//212023</a> || <p>Elk jaar is het weer een groot evenement! De groepen zien er prachtig uit en zingen de leukste wandelliedjes. Alle groepen proberen het meest origineel over te komen op de jury en natuurlijk probeert men om de vierdaagse met succes af te leggen. De intocht is op zaterdag! De afstanden die gelopen zullen worden zijn: 5, 10, 12,5 , 15 km.
De eerste dag lopen ze richting Vragender, de tweede dag richting Zieuwent, de derde dag richting Harreveld en op de vierde dag richting Lievelde. Traditioneel gaat de intocht op de 4e dag niet in de avond maar in de ochtend richting Lievelde. Op het marktplein worden de wandelaars feestelijk onthaald en is de prijsuitreiking voor de mooiste wandelaars en de beste zanggroep.</p>
DESCRIPTION:<a href='https://www.achterhoekfoto.nl/agenda/item//212023'>https://www.achterhoekfoto.nl/agenda/item//212023</a> || Elk jaar is het weer een groot evenement! De groepen zien er prachtig uit en zingen de leukste wandelliedjes. Alle groepen proberen het meest origineel over te komen op de jury en natuurlijk probeert men om de vierdaagse met succes af te leggen. De intocht is op zaterdag! De afstanden die gelopen zullen worden zijn: 5, 10, 12,5 , 15 km.
De eerste dag lopen ze richting Vragender, de tweede dag richting Zieuwent, de derde dag richting Harreveld en op de vierde dag richting Lievelde. Traditioneel gaat de intocht op de 4e dag niet in de avond maar in de ochtend richting Lievelde. Op het marktplein worden de wandelaars feestelijk onthaald en is de prijsuitreiking voor de mooiste wandelaars en de beste zanggroep.
LAST-MODIFIED:20260424T072638Z
LOCATION:Centrum Markt e.o. - 7131DG Lichtenvoorde
SEQUENCE:0
STATUS:CONFIRMED
SUMMARY:Avond4daagse Lichtenvoorde
TRANSP:OPAQUE
END:VEVENT
END:VCALENDAR
