BEGIN:VCALENDAR
PRODID:-//PUBBLE//an agenda//NL
VERSION:2.0
METHOD:PUBLISH
BEGIN:VEVENT
DTSTART:20180623T173000Z
DTEND:20180623T200000Z
DTSTAMP:20260425T160411Z
UID:86c2de90-e788-40d2-9f18-41376cf1be2b
CREATED:20260425T160411Z
URL:https://www.achterhoekfoto.nl/agenda/item/212018
NAME:Muziek op het Plein met Muziekvereniging Euterpe AchterhoekFoto.nl
X-WR-CALNAME:Muziek op het Plein met Muziekvereniging Euterpe AchterhoekFoto.nl
X-ALT-DESC;FMTTYPE=text/html:<a href='https://www.achterhoekfoto.nl/agenda/item//212018'>https://achterhoekfoto.nl/agenda/item//212018</a> || <p>Muziekvereniging Euterpe maakt er een feestje van op zaterdag 23 juni.
Midden in het dorp, muziek op het plein bij Eterij de Woage, onder het genot van een drankje.
Het wordt vast een vrolijke zomer, aan de muziek en de locatie zal het niet liggen.
Podium voor de jeugd, ze krijgen een mooie kans om zich te laten zien en horen.
Mocht je op de fiets zitten, verleg je route, stap af en haak gezellig aan.
Het is de moeite waard, heerlijk een ontspannen avondje genieten van o.a.:
Wonderful Days, Bongo Dancing, Coldplay On Stage, Music from Pirates of the Caribbean, Doe Maar medly, Sambossa, Samba de Janeiro.

Bij slecht weer gaat het helaas niet door, volg de facebookpagina van Euterpe 
</p>
DESCRIPTION:<a href='https://www.achterhoekfoto.nl/agenda/item//212018'>https://www.achterhoekfoto.nl/agenda/item//212018</a> || Muziekvereniging Euterpe maakt er een feestje van op zaterdag 23 juni.
Midden in het dorp, muziek op het plein bij Eterij de Woage, onder het genot van een drankje.
Het wordt vast een vrolijke zomer, aan de muziek en de locatie zal het niet liggen.
Podium voor de jeugd, ze krijgen een mooie kans om zich te laten zien en horen.
Mocht je op de fiets zitten, verleg je route, stap af en haak gezellig aan.
Het is de moeite waard, heerlijk een ontspannen avondje genieten van o.a.:
Wonderful Days, Bongo Dancing, Coldplay On Stage, Music from Pirates of the Caribbean, Doe Maar medly, Sambossa, Samba de Janeiro.

Bij slecht weer gaat het helaas niet door, volg de facebookpagina van Euterpe 

LAST-MODIFIED:20260425T160411Z
LOCATION:Eetcafé De Woage Dorpsstraat 21 7025AB Halle
SEQUENCE:0
STATUS:CONFIRMED
SUMMARY:Muziek op het Plein met Muziekvereniging Euterpe
TRANSP:OPAQUE
END:VEVENT
END:VCALENDAR
