BEGIN:VCALENDAR
PRODID:-//PUBBLE//an agenda//NL
VERSION:2.0
METHOD:PUBLISH
BEGIN:VEVENT
DTSTART:20180613T220000Z
DTEND:20180614T140000Z
DTSTAMP:20260421T114214Z
UID:68cf7cda-5e60-466f-b7cd-7b10acce3e86
CREATED:20260421T114214Z
URL:https://www.achterhoekfoto.nl/agenda/item/211866
NAME:Repair Café Doetinchem AchterhoekFoto.nl
X-WR-CALNAME:Repair Café Doetinchem AchterhoekFoto.nl
X-ALT-DESC;FMTTYPE=text/html:<a href='https://www.achterhoekfoto.nl/agenda/item//211866'>https://achterhoekfoto.nl/agenda/item//211866</a> || <p>W
Elke donderdagmiddag, komende week op 14-06-2018 van 13.00 - 16.00 uur, kunt u daarmee terecht in de Stadskamer in Doetinchem.
Dr. Hubernoodtstraat 6, 7001 DW Doetinchem.
Ons E-mail-adres: repaircafe@stadskamer.com
</p>
DESCRIPTION:<a href='https://www.achterhoekfoto.nl/agenda/item//211866'>https://www.achterhoekfoto.nl/agenda/item//211866</a> || W
Elke donderdagmiddag, komende week op 14-06-2018 van 13.00 - 16.00 uur, kunt u daarmee terecht in de Stadskamer in Doetinchem.
Dr. Hubernoodtstraat 6, 7001 DW Doetinchem.
Ons E-mail-adres: repaircafe@stadskamer.com

LAST-MODIFIED:20260421T114214Z
LOCATION:Stadskamer Raadhuisstraat 34 7001EW Doetinchem
SEQUENCE:0
STATUS:CONFIRMED
SUMMARY:Repair Café Doetinchem
TRANSP:OPAQUE
END:VEVENT
END:VCALENDAR
