BEGIN:VCALENDAR
PRODID:-//PUBBLE//an agenda//NL
VERSION:2.0
METHOD:PUBLISH
BEGIN:VEVENT
DTSTART:20180617T073000Z
DTEND:20180617T153000Z
DTSTAMP:20260423T015910Z
UID:4008d12c-518e-44ff-a378-97b315ec996b
CREATED:20260423T015910Z
URL:https://www.achterhoekfoto.nl/agenda/item/211850
NAME:Classic Cross Hummelo AchterhoekFoto.nl
X-WR-CALNAME:Classic Cross Hummelo AchterhoekFoto.nl
X-ALT-DESC;FMTTYPE=text/html:<a href='https://www.achterhoekfoto.nl/agenda/item//211850'>https://achterhoekfoto.nl/agenda/item//211850</a> || <p>Classic Cross Hummelo
(motocross met motoren uit de jaren 60, 70, 80 en 90)

De Classis Cross is een evenement waarbij de deelnemers hun crossmotoren uit de jaren 60, 70, 80 en 90 van de vorige eeuw op het circuit de sporen geven.

Gedurende de dag zullen meer dan 150 rijders op hun prachtige oude crossmotoren drie maal in actie komen, ’s ochtends worden de trainingen afgewerkt en ’s middags worden twee manches gereden.

Om de pk's op de baan te kunnen aanspreken zijn de coureurs wekelijks velen uren bezig met de preparatie van hun klassieke motoren, menig technisch probleem moet daarbij overwonnen worden.

Aan de start komen de klassen:
Classics 50cc met vooral Kreidlers in diverse uitvoeringen
Classics 60+ en 60-, met oa 2-takt motoren als CZ, Bultaco, Maico en de zware 4-takt motoren met een voor velen bejubeld geluid zoals BSA, JAWA, Triumph en Matchless. 
Twinshock klasse, motoren met luchtkoeling, trommelremmen en 2 achterschokbrekers 
Pré 90 en Pré 95 (en dat zijn dus motoren voor respectievelijk 1990 en 1995) Classic Zijspannen, met naast fraaie 4-takt machines ook 2 EML Jumbo 2 cilinder tweetakten (alleen voor het geluid zou u al moeten komen)

In het vrij toegankelijke rennerskwartier kan iedereen genieten van alle klassieke motoren, de coureurs zullen u daar ook enthousiast over vertellen.

Mooi voor liefhebbers van techniek en/of motocross.</p>
DESCRIPTION:<a href='https://www.achterhoekfoto.nl/agenda/item//211850'>https://www.achterhoekfoto.nl/agenda/item//211850</a> || Classic Cross Hummelo
(motocross met motoren uit de jaren 60, 70, 80 en 90)

De Classis Cross is een evenement waarbij de deelnemers hun crossmotoren uit de jaren 60, 70, 80 en 90 van de vorige eeuw op het circuit de sporen geven.

Gedurende de dag zullen meer dan 150 rijders op hun prachtige oude crossmotoren drie maal in actie komen, ’s ochtends worden de trainingen afgewerkt en ’s middags worden twee manches gereden.

Om de pk's op de baan te kunnen aanspreken zijn de coureurs wekelijks velen uren bezig met de preparatie van hun klassieke motoren, menig technisch probleem moet daarbij overwonnen worden.

Aan de start komen de klassen:
Classics 50cc met vooral Kreidlers in diverse uitvoeringen
Classics 60+ en 60-, met oa 2-takt motoren als CZ, Bultaco, Maico en de zware 4-takt motoren met een voor velen bejubeld geluid zoals BSA, JAWA, Triumph en Matchless. 
Twinshock klasse, motoren met luchtkoeling, trommelremmen en 2 achterschokbrekers 
Pré 90 en Pré 95 (en dat zijn dus motoren voor respectievelijk 1990 en 1995) Classic Zijspannen, met naast fraaie 4-takt machines ook 2 EML Jumbo 2 cilinder tweetakten (alleen voor het geluid zou u al moeten komen)

In het vrij toegankelijke rennerskwartier kan iedereen genieten van alle klassieke motoren, de coureurs zullen u daar ook enthousiast over vertellen.

Mooi voor liefhebbers van techniek en/of motocross.
LAST-MODIFIED:20260423T015910Z
LOCATION:Motorsportvereniging TCD Hummelo nabij Rozengaarderweg 13  Hummelo
SEQUENCE:0
STATUS:CONFIRMED
SUMMARY:Classic Cross Hummelo
TRANSP:OPAQUE
END:VEVENT
END:VCALENDAR
