BEGIN:VCALENDAR
PRODID:-//PUBBLE//an agenda//NL
VERSION:2.0
METHOD:PUBLISH
BEGIN:VEVENT
DTSTART:20180617T150000Z
DTEND:20180617T160000Z
DTSTAMP:20260423T133653Z
UID:a4a671f1-d7ea-4097-bbf0-b9d40097fc03
CREATED:20260423T133653Z
URL:https://www.achterhoekfoto.nl/agenda/item/211801
NAME:Optreden Los Pajaritos  AchterhoekFoto.nl
X-WR-CALNAME:Optreden Los Pajaritos  AchterhoekFoto.nl
X-ALT-DESC;FMTTYPE=text/html:<a href='https://www.achterhoekfoto.nl/agenda/item//211801'>https://achterhoekfoto.nl/agenda/item//211801</a> || <p>Deze 6-vrouws flamencoformatie is geen koor, geen band, maar “Los Pajaritos”. Ze zingen Spaanstalig, meerstemmig, hartverwarmend, vrolijk, hier en daar wat melancholisch. Met een lach en een traan. Geworteld in de Deventer aarde maar met hun “corazón” in de Spaanse zon...! Hun liefde voor muziek en Spanje werkt aanstekelijk. Wedden dat u niet stil kunt blijven staan? Zo blijven we nog even in de Spaanse sferen van Vorden. </p>
DESCRIPTION:<a href='https://www.achterhoekfoto.nl/agenda/item//211801'>https://www.achterhoekfoto.nl/agenda/item//211801</a> || Deze 6-vrouws flamencoformatie is geen koor, geen band, maar “Los Pajaritos”. Ze zingen Spaanstalig, meerstemmig, hartverwarmend, vrolijk, hier en daar wat melancholisch. Met een lach en een traan. Geworteld in de Deventer aarde maar met hun “corazón” in de Spaanse zon...! Hun liefde voor muziek en Spanje werkt aanstekelijk. Wedden dat u niet stil kunt blijven staan? Zo blijven we nog even in de Spaanse sferen van Vorden. 
LAST-MODIFIED:20260423T133653Z
LOCATION:Galerie De Burgerij Zutphenseweg 11 7251 DG Vorden
SEQUENCE:0
STATUS:CONFIRMED
SUMMARY:Optreden Los Pajaritos 
TRANSP:OPAQUE
END:VEVENT
END:VCALENDAR
