BEGIN:VCALENDAR
PRODID:-//PUBBLE//an agenda//NL
VERSION:2.0
METHOD:PUBLISH
BEGIN:VEVENT
DTSTART:20180621T220000Z
DTEND:20180622T210000Z
DTSTAMP:20260424T203754Z
UID:b2952d6c-b03c-4277-9a97-e18da93121ea
CREATED:20260424T203754Z
URL:https://www.achterhoekfoto.nl/agenda/item/211625
NAME: Fuchsiatuin open AchterhoekFoto.nl
X-WR-CALNAME: Fuchsiatuin open AchterhoekFoto.nl
X-ALT-DESC;FMTTYPE=text/html:<a href='https://www.achterhoekfoto.nl/agenda/item//211625'>https://achterhoekfoto.nl/agenda/item//211625</a> || <p>
De fuchsiatuin van de fam. Elsman is dit jaar voor het eerst weer open. In de Wichmondse tuin zijn ruim 700 verschillende fuchsia's te vinden. Daarnaast zijn er ook veel andere zomerbloeiers te bewonderen. 
</p>
DESCRIPTION:<a href='https://www.achterhoekfoto.nl/agenda/item//211625'>https://www.achterhoekfoto.nl/agenda/item//211625</a> || 
De fuchsiatuin van de fam. Elsman is dit jaar voor het eerst weer open. In de Wichmondse tuin zijn ruim 700 verschillende fuchsia's te vinden. Daarnaast zijn er ook veel andere zomerbloeiers te bewonderen. 

LAST-MODIFIED:20260424T203754Z
LOCATION:Bloemenhuis 't Stekkie Baron van der Heydenlaan 24 7234SC Wichmond
SEQUENCE:0
STATUS:CONFIRMED
SUMMARY: Fuchsiatuin open
TRANSP:OPAQUE
END:VEVENT
END:VCALENDAR
