BEGIN:VCALENDAR
PRODID:-//PUBBLE//an agenda//NL
VERSION:2.0
METHOD:PUBLISH
BEGIN:VEVENT
DTSTART:20180617T130000Z
DTEND:20180617T150000Z
DTSTAMP:20260423T121933Z
UID:b1277b2d-230b-4bcc-8f61-706607f439fd
CREATED:20260423T121933Z
URL:https://www.achterhoekfoto.nl/agenda/item/211564
NAME:Zozo Mannen in Needse muziekkoepel AchterhoekFoto.nl
X-WR-CALNAME:Zozo Mannen in Needse muziekkoepel AchterhoekFoto.nl
X-ALT-DESC;FMTTYPE=text/html:<a href='https://www.achterhoekfoto.nl/agenda/item//211564'>https://achterhoekfoto.nl/agenda/item//211564</a> || <p>Op zondagmiddag 17 juni treden de Zozo Mannen op bij de Muziekkoepel in Neede. Vanaf 15.00 zullen zij een breed repertoire aan nummers ten gehore brengen.
Zozo Mannen bestaat uit Han Koeslag, Henk Supheert, Andre Menting, Jan Dijkman en Fons Kox. Vijf enthousiaste mannen die voor hun plezier muziek maken en dit graag met muziekliefhebbers willen delen. Hun talent is meerstemmige zang waarbij zij zich zelf begeleiden met twee akoestische gitaren, een mondharmonica en een slagwerk set. De muziek die zij maken uit de jaren 60-70 gaat van Creedence Clearwater Revival tot Simon en Garfunkel en dialect. Ondanks hun korte bestaan hebben zij al een breed publiek laten genieten van hun muziek. Hun optredens spelen zich voornamelijk af in kleine intieme locaties, maar zondag maken ze een uitzondering om in de unieke Needse muziekkoepel op te treden. 
Het optreden van de Zozo Mannen is één van de evenementen die Reuring in de Koepel deze zomer presenteert bij de muziekkoepel in Neede. Toeschouwers kunnen aanschuiven aan de klaarstaande biertafels of gezellig op een eigen meegebracht kleedje in het gras plaatsnemen. De organisatie zorgt voor parasols en er is koffie, thee, limonade, bier en wijn te koop. 
De toegang is gratis. Het kopen van een drankje of een vrije gift wordt door de organisatie op prijs gesteld.</p>
DESCRIPTION:<a href='https://www.achterhoekfoto.nl/agenda/item//211564'>https://www.achterhoekfoto.nl/agenda/item//211564</a> || Op zondagmiddag 17 juni treden de Zozo Mannen op bij de Muziekkoepel in Neede. Vanaf 15.00 zullen zij een breed repertoire aan nummers ten gehore brengen.
Zozo Mannen bestaat uit Han Koeslag, Henk Supheert, Andre Menting, Jan Dijkman en Fons Kox. Vijf enthousiaste mannen die voor hun plezier muziek maken en dit graag met muziekliefhebbers willen delen. Hun talent is meerstemmige zang waarbij zij zich zelf begeleiden met twee akoestische gitaren, een mondharmonica en een slagwerk set. De muziek die zij maken uit de jaren 60-70 gaat van Creedence Clearwater Revival tot Simon en Garfunkel en dialect. Ondanks hun korte bestaan hebben zij al een breed publiek laten genieten van hun muziek. Hun optredens spelen zich voornamelijk af in kleine intieme locaties, maar zondag maken ze een uitzondering om in de unieke Needse muziekkoepel op te treden. 
Het optreden van de Zozo Mannen is één van de evenementen die Reuring in de Koepel deze zomer presenteert bij de muziekkoepel in Neede. Toeschouwers kunnen aanschuiven aan de klaarstaande biertafels of gezellig op een eigen meegebracht kleedje in het gras plaatsnemen. De organisatie zorgt voor parasols en er is koffie, thee, limonade, bier en wijn te koop. 
De toegang is gratis. Het kopen van een drankje of een vrije gift wordt door de organisatie op prijs gesteld.
LAST-MODIFIED:20260423T121933Z
LOCATION:Muziekkoepel Oranjelaan 3 7161 Neede
SEQUENCE:0
STATUS:CONFIRMED
SUMMARY:Zozo Mannen in Needse muziekkoepel
TRANSP:OPAQUE
END:VEVENT
END:VCALENDAR
