BEGIN:VCALENDAR
PRODID:-//PUBBLE//an agenda//NL
VERSION:2.0
METHOD:PUBLISH
BEGIN:VEVENT
DTSTART:20180621T173000Z
DTEND:20180621T193000Z
DTSTAMP:20260424T192046Z
UID:c4ef685c-0c81-4a18-ab7d-ad345ea41468
CREATED:20260424T192046Z
URL:https://www.achterhoekfoto.nl/agenda/item/211540
NAME:Midzomeravond Openstelling Stadsmuseum Bergh AchterhoekFoto.nl
X-WR-CALNAME:Midzomeravond Openstelling Stadsmuseum Bergh AchterhoekFoto.nl
X-ALT-DESC;FMTTYPE=text/html:<a href='https://www.achterhoekfoto.nl/agenda/item//211540'>https://achterhoekfoto.nl/agenda/item//211540</a> || <p>Op deze ‘langste’ dag van het jaar opent Stadsmuseum Bergh ’s avonds haar deuren. Van oudsher een mystieke avond vervuld van rituelen, zoals het verzamelen van geneeskrachtige kruiden en planten. Kom naar het museum en maak kennis met Mechteld ten Ham. Zij was een oudere kruidenvrouw, die de twijfelachtige eer heeft om, als één van de laatste van hekserij beschuldigde vrouwen in Nederland, veroordeeld te worden tot de brandstapel (1605). 

 Leer ook de andere vier historische vrouwen van Bergh kennen die hun spannende verhalen vertellen. Door middel van een audiotour, multimedia, speciale belichting en videobeelden waan je je in het verleden van Bergh. Zie hoe oorlog, intriges, macht en geld vaak de hoofdrol speelden. Ervaar hoe mensen toen leefden aan o.a. de hand van de stadsmaquette met animaties</p>
DESCRIPTION:<a href='https://www.achterhoekfoto.nl/agenda/item//211540'>https://www.achterhoekfoto.nl/agenda/item//211540</a> || Op deze ‘langste’ dag van het jaar opent Stadsmuseum Bergh ’s avonds haar deuren. Van oudsher een mystieke avond vervuld van rituelen, zoals het verzamelen van geneeskrachtige kruiden en planten. Kom naar het museum en maak kennis met Mechteld ten Ham. Zij was een oudere kruidenvrouw, die de twijfelachtige eer heeft om, als één van de laatste van hekserij beschuldigde vrouwen in Nederland, veroordeeld te worden tot de brandstapel (1605). 

 Leer ook de andere vier historische vrouwen van Bergh kennen die hun spannende verhalen vertellen. Door middel van een audiotour, multimedia, speciale belichting en videobeelden waan je je in het verleden van Bergh. Zie hoe oorlog, intriges, macht en geld vaak de hoofdrol speelden. Ervaar hoe mensen toen leefden aan o.a. de hand van de stadsmaquette met animaties
LAST-MODIFIED:20260424T192046Z
LOCATION:Stadsmuseum Bergh Marktstraat 3 7041AH s-Heerenberg
SEQUENCE:0
STATUS:CONFIRMED
SUMMARY:Midzomeravond Openstelling Stadsmuseum Bergh
TRANSP:OPAQUE
END:VEVENT
END:VCALENDAR
