BEGIN:VCALENDAR
PRODID:-//PUBBLE//an agenda//NL
VERSION:2.0
METHOD:PUBLISH
BEGIN:VEVENT
DTSTART:20180616T060000Z
DTEND:20180616T210000Z
DTSTAMP:20260422T115618Z
UID:4207e133-13b4-4bed-81b9-fc9f1929ae33
CREATED:20260422T115618Z
URL:https://www.achterhoekfoto.nl/agenda/item/211535
NAME:Zeskamp - Schutterij St. Isidorus AchterhoekFoto.nl
X-WR-CALNAME:Zeskamp - Schutterij St. Isidorus AchterhoekFoto.nl
X-ALT-DESC;FMTTYPE=text/html:<a href='https://www.achterhoekfoto.nl/agenda/item//211535'>https://achterhoekfoto.nl/agenda/item//211535</a> || <p>Schutterij St. Isidorus uit Oud-Dijk organiseert op zaterdag 16 juni de 5e edietie van de Zeskamp. Het wordt een echte familieaangelegenheid. 

 Iedereen is welkom, kom genieten, strijden en feesten! </p>
DESCRIPTION:<a href='https://www.achterhoekfoto.nl/agenda/item//211535'>https://www.achterhoekfoto.nl/agenda/item//211535</a> || Schutterij St. Isidorus uit Oud-Dijk organiseert op zaterdag 16 juni de 5e edietie van de Zeskamp. Het wordt een echte familieaangelegenheid. 

 Iedereen is welkom, kom genieten, strijden en feesten! 
LAST-MODIFIED:20260422T115618Z
LOCATION:Plok Dijksestraat 52 6942gd Didam
SEQUENCE:0
STATUS:CONFIRMED
SUMMARY:Zeskamp - Schutterij St. Isidorus
TRANSP:OPAQUE
END:VEVENT
END:VCALENDAR
