BEGIN:VCALENDAR
PRODID:-//PUBBLE//an agenda//NL
VERSION:2.0
METHOD:PUBLISH
BEGIN:VEVENT
DTSTART:20180616T180000Z
DTEND:20180616T200000Z
DTSTAMP:20260422T184452Z
UID:09b13c2c-f9cb-44c3-8a9d-7edda1af5d0f
CREATED:20260422T184452Z
URL:https://www.achterhoekfoto.nl/agenda/item/210699
NAME:Achterhoek klimaatneutraal: Thijs de la Court geeft lezing in de Koppelkerk AchterhoekFoto.nl
X-WR-CALNAME:Achterhoek klimaatneutraal: Thijs de la Court geeft lezing in de Koppelkerk AchterhoekFoto.nl
X-ALT-DESC;FMTTYPE=text/html:<a href='https://www.achterhoekfoto.nl/agenda/item//210699'>https://achterhoekfoto.nl/agenda/item//210699</a> || <p>Hoe maken we de Achterhoek klimaatneutraal? Thijs de la Court van het Gelders Energie Akkoord geeft op zaterdag 16 juni een lezing in de Koppelkerk in Bredevoort over de stappen die de Achterhoek moet zetten om de broodnodige energieomslag te realiseren. Ook burgerinitiatief Energie Coöperatie Bredevoort presenteert haar plannen om bij te dragen aan de grootschalige energietransitie.

Hoe gaat die ‘energiemix’ er voor de Achterhoek uitzien? Welke duurzame energiebronnen zijn effectief in de Achterhoek? Is het verstandig om vooral in te zetten op wind- of zonne-energie gezien de windkracht en zonne-uren in de Achterhoek? Of moeten we ook denken aan andere energiebronnen? En wat is de rol van de burger, van de overheid, van de provincie en van de gemeente in de energietransitie?

Thijs de la Court is algemeen secretaris van het Gelders Energieakkoord: een samenwerking van lokale overheden, bedrijfsleven en energiecoöperaties die zich inzetten voor klimaatneutraal Gelderland. Daarnaast zal burgerinitiatief Energie Coöperatie Bredevoort presenteren hoe zij lokaal en van onderaf hopen bij te dragen aan een duurzame Achterhoek. De avond wordt afgesloten met een discussie onder leiding van Jilt Sietsma van het burgerinitiatief Energietransitie Aalten. Colleges en raadsleden van Achterhoekse gemeenten zijn ook uitgenodigd. 

</p>
DESCRIPTION:<a href='https://www.achterhoekfoto.nl/agenda/item//210699'>https://www.achterhoekfoto.nl/agenda/item//210699</a> || Hoe maken we de Achterhoek klimaatneutraal? Thijs de la Court van het Gelders Energie Akkoord geeft op zaterdag 16 juni een lezing in de Koppelkerk in Bredevoort over de stappen die de Achterhoek moet zetten om de broodnodige energieomslag te realiseren. Ook burgerinitiatief Energie Coöperatie Bredevoort presenteert haar plannen om bij te dragen aan de grootschalige energietransitie.

Hoe gaat die ‘energiemix’ er voor de Achterhoek uitzien? Welke duurzame energiebronnen zijn effectief in de Achterhoek? Is het verstandig om vooral in te zetten op wind- of zonne-energie gezien de windkracht en zonne-uren in de Achterhoek? Of moeten we ook denken aan andere energiebronnen? En wat is de rol van de burger, van de overheid, van de provincie en van de gemeente in de energietransitie?

Thijs de la Court is algemeen secretaris van het Gelders Energieakkoord: een samenwerking van lokale overheden, bedrijfsleven en energiecoöperaties die zich inzetten voor klimaatneutraal Gelderland. Daarnaast zal burgerinitiatief Energie Coöperatie Bredevoort presenteren hoe zij lokaal en van onderaf hopen bij te dragen aan een duurzame Achterhoek. De avond wordt afgesloten met een discussie onder leiding van Jilt Sietsma van het burgerinitiatief Energietransitie Aalten. Colleges en raadsleden van Achterhoekse gemeenten zijn ook uitgenodigd. 


LAST-MODIFIED:20260422T184452Z
LOCATION:Koppelkerk - vrijplaats voor kunst & cultuur Koppelstraat 35 7126AG Bredevoort
SEQUENCE:0
STATUS:CONFIRMED
SUMMARY:Achterhoek klimaatneutraal: Thijs de la Court geeft lezing in de Koppelkerk
TRANSP:OPAQUE
END:VEVENT
END:VCALENDAR
