BEGIN:VCALENDAR
PRODID:-//PUBBLE//an agenda//NL
VERSION:2.0
METHOD:PUBLISH
BEGIN:VEVENT
DTSTART:20180622T180000Z
DTEND:20180622T200000Z
DTSTAMP:20260425T040137Z
UID:e3862c13-64af-419e-b176-529233f069e5
CREATED:20260425T040137Z
URL:https://www.achterhoekfoto.nl/agenda/item/210490
NAME:Zomeravond concert St. Gudulakerk AchterhoekFoto.nl
X-WR-CALNAME:Zomeravond concert St. Gudulakerk AchterhoekFoto.nl
X-ALT-DESC;FMTTYPE=text/html:<a href='https://www.achterhoekfoto.nl/agenda/item//210490'>https://achterhoekfoto.nl/agenda/item//210490</a> || <p>1.	22 juni: Concert voor koor  Alfred Schnittke, door Oost Nederlands Kamerkoor.
Het Concert voor Koor uit 1984/85 wordt gezien als een absoluut hoogtepunt van de 20e-eeuwse koormuziek. De muziek is sterk gerelateerd aan de traditionele Russisch-orthodoxe koormuziek, en met Schnittke’s eigen muzikale idioom is het een tijdloos magistraal werk, zowel groots als intiem, zowel aangrijpend als hemels. 
</p>
DESCRIPTION:<a href='https://www.achterhoekfoto.nl/agenda/item//210490'>https://www.achterhoekfoto.nl/agenda/item//210490</a> || 1.	22 juni: Concert voor koor  Alfred Schnittke, door Oost Nederlands Kamerkoor.
Het Concert voor Koor uit 1984/85 wordt gezien als een absoluut hoogtepunt van de 20e-eeuwse koormuziek. De muziek is sterk gerelateerd aan de traditionele Russisch-orthodoxe koormuziek, en met Schnittke’s eigen muzikale idioom is het een tijdloos magistraal werk, zowel groots als intiem, zowel aangrijpend als hemels. 

LAST-MODIFIED:20260425T040137Z
LOCATION:Gudulakerk Markt  1 7241AA Lochem
SEQUENCE:0
STATUS:CONFIRMED
SUMMARY:Zomeravond concert St. Gudulakerk
TRANSP:OPAQUE
END:VEVENT
END:VCALENDAR
