BEGIN:VCALENDAR
PRODID:-//PUBBLE//an agenda//NL
VERSION:2.0
METHOD:PUBLISH
BEGIN:VEVENT
DTSTART:20180613T120000Z
DTEND:20180613T143000Z
DTSTAMP:20260421T085342Z
UID:c804aa3c-3488-4b5c-b688-b9b4974b4893
CREATED:20260421T085342Z
URL:https://www.achterhoekfoto.nl/agenda/item/210420
NAME:Orchideeënwandeling langs de Lindese Laak AchterhoekFoto.nl
X-WR-CALNAME:Orchideeënwandeling langs de Lindese Laak AchterhoekFoto.nl
X-ALT-DESC;FMTTYPE=text/html:<a href='https://www.achterhoekfoto.nl/agenda/item//210420'>https://achterhoekfoto.nl/agenda/item//210420</a> || <p>VORDEN - Op zoek gaan naar bloeiende orchideeën langs een oude beek. Dat kan op woensdag 13 juni met de boswachter van Geldersch Landschap en Kasteelen die belangstellenden meeneemt op een orchideeënwandeling langs de Lindese Laak. Ten zuiden van de Kieftskamp slingert de Lindese Laak om de oude essen en langs de natte graslanden. De boswachter leidt wandelaars door de weilanden en langs de oevers naar verscholen plekken waar we planten vinden die men zelden ziet. Stevige schoenen of laarzen worden aanbevolen: het kan drassig zijn.

Start: 14.00 uur op de parkeerplaats aan de Kieftskampweg, hoek Lieferinkweg tussen Vorden en de buurtschap Linde. Duur: 2 à 2,5 uur. Deelname: € 5,00 p.p., kinderen 4 t/m 12 jaar € 2,50 p.p. Donateurs Geldersch Landschap & Kasteelen gratis op vertoon van een geldige donateurspas. Reserveren is noodzakelijk via www.glk.nl/evenementen. Informatie: Wim de Vries, tel. 06 - 17 320 363 of Joke Hoitink, tel. 06 - 54 668 064.</p>
DESCRIPTION:<a href='https://www.achterhoekfoto.nl/agenda/item//210420'>https://www.achterhoekfoto.nl/agenda/item//210420</a> || VORDEN - Op zoek gaan naar bloeiende orchideeën langs een oude beek. Dat kan op woensdag 13 juni met de boswachter van Geldersch Landschap en Kasteelen die belangstellenden meeneemt op een orchideeënwandeling langs de Lindese Laak. Ten zuiden van de Kieftskamp slingert de Lindese Laak om de oude essen en langs de natte graslanden. De boswachter leidt wandelaars door de weilanden en langs de oevers naar verscholen plekken waar we planten vinden die men zelden ziet. Stevige schoenen of laarzen worden aanbevolen: het kan drassig zijn.

Start: 14.00 uur op de parkeerplaats aan de Kieftskampweg, hoek Lieferinkweg tussen Vorden en de buurtschap Linde. Duur: 2 à 2,5 uur. Deelname: € 5,00 p.p., kinderen 4 t/m 12 jaar € 2,50 p.p. Donateurs Geldersch Landschap & Kasteelen gratis op vertoon van een geldige donateurspas. Reserveren is noodzakelijk via www.glk.nl/evenementen. Informatie: Wim de Vries, tel. 06 - 17 320 363 of Joke Hoitink, tel. 06 - 54 668 064.
LAST-MODIFIED:20260421T085342Z
LOCATION:Landgoed De Kieftskamp Lindeseweg 6 7251nk Vorden
SEQUENCE:0
STATUS:CONFIRMED
SUMMARY:Orchideeënwandeling langs de Lindese Laak
TRANSP:OPAQUE
END:VEVENT
END:VCALENDAR
