BEGIN:VCALENDAR
PRODID:-//PUBBLE//an agenda//NL
VERSION:2.0
METHOD:PUBLISH
BEGIN:VEVENT
DTSTART:20180817T153000Z
DTEND:20180819T183000Z
DTSTAMP:20260423T131135Z
UID:8ba74899-7d7b-4112-a410-da4077e3dd11
CREATED:20260423T131135Z
URL:https://www.achterhoekfoto.nl/agenda/item/210132
NAME:FC Zutphen Internationaal jeugdvoetbaltoernooi U13  AchterhoekFoto.nl
X-WR-CALNAME:FC Zutphen Internationaal jeugdvoetbaltoernooi U13  AchterhoekFoto.nl
X-ALT-DESC;FMTTYPE=text/html:<a href='https://www.achterhoekfoto.nl/agenda/item//210132'>https://achterhoekfoto.nl/agenda/item//210132</a> || <p>Op 17, 18 en 19 augustus 2018 vindt voor de derde keer het FC Zutphen internationaal jeugdvoetbaltoernooi U13 plaats. Een uniek toernooi met vele (internationale) toptalenten. De volgende topclubs komen naar Zutphen: FC Zutphen, Feyenoord (dat zijn titel van 2017 komt verdedigen), Vitesse, PSV, AZ, Chelsea Football Club, Westham United, RSC Anderlecht, Bayer 04 Leverkusen, Borussia Dortmund.
Een mooi en sterk deelnemersveld. Dat belooft drie dagen lang genieten van jeugdige voetbaltalenten! U bent van harte welkom.</p>
DESCRIPTION:<a href='https://www.achterhoekfoto.nl/agenda/item//210132'>https://www.achterhoekfoto.nl/agenda/item//210132</a> || Op 17, 18 en 19 augustus 2018 vindt voor de derde keer het FC Zutphen internationaal jeugdvoetbaltoernooi U13 plaats. Een uniek toernooi met vele (internationale) toptalenten. De volgende topclubs komen naar Zutphen: FC Zutphen, Feyenoord (dat zijn titel van 2017 komt verdedigen), Vitesse, PSV, AZ, Chelsea Football Club, Westham United, RSC Anderlecht, Bayer 04 Leverkusen, Borussia Dortmund.
Een mooi en sterk deelnemersveld. Dat belooft drie dagen lang genieten van jeugdige voetbaltalenten! U bent van harte welkom.
LAST-MODIFIED:20260423T131135Z
LOCATION:FC Zutphen Meijerinkpad 1 7207ed Zutphen
SEQUENCE:0
STATUS:CONFIRMED
SUMMARY:FC Zutphen Internationaal jeugdvoetbaltoernooi U13 
TRANSP:OPAQUE
END:VEVENT
END:VCALENDAR
