BEGIN:VCALENDAR
PRODID:-//PUBBLE//an agenda//NL
VERSION:2.0
METHOD:PUBLISH
BEGIN:VEVENT
DTSTART:20180615T073000Z
DTEND:20180615T103000Z
DTSTAMP:20260422T031616Z
UID:b0abba4d-0bb4-4f3a-b769-1e6689ad2dff
CREATED:20260422T031616Z
URL:https://www.achterhoekfoto.nl/agenda/item/209796
NAME:Dwalen door Zutphen (fotografie-wandeling) AchterhoekFoto.nl
X-WR-CALNAME:Dwalen door Zutphen (fotografie-wandeling) AchterhoekFoto.nl
X-ALT-DESC;FMTTYPE=text/html:<a href='https://www.achterhoekfoto.nl/agenda/item//209796'>https://achterhoekfoto.nl/agenda/item//209796</a> || <p>Ik ben fotograaf en dwaal graag met mijn camera door mijn woonplaats Zutphen. Al wandelend heb ik al veel prachtige plekken ontdekt. Er is zoveel moois om vast te leggen! Ik vind het heerlijk om dat enthousiasme over Zutphen én fotograferen met anderen te delen. Samen Dwalen dus, ga je mee?

Op 15 juni gaan we aan de slag met het thema "Diafragma". In een gemoedelijke sfeer krijg je uitleg over de werking van het Diafragma in een fototoestel. Ook licht ik de effecten toe die je met de instelling ervan kunt bereiken. Je doet praktische oefeningen in de historische binnenstad van Zutphen én je krijgt je feedback op je foto's.

In deze workshop leer je om het diafragma van je camera te beheersen. Dat heeft alles te maken met scherpte van je onderwerp. Wil je alle onderdelen van je foto scherp vastleggen of juist een portret met een zachte achtergrond maken? Je krijgt ruimte om te oefenen met de theorie en we bespreken je gemaakte foto’s na. Zo krijg je meer controle en kun je meer creativiteit in je foto’s leggen.

Ga je mee Dwalen door Zutphen? Meer informatie en aanmelden via: www.jasjadewitfotografie.nl of 06-577 85 250. Ik zie je graag!</p>
DESCRIPTION:<a href='https://www.achterhoekfoto.nl/agenda/item//209796'>https://www.achterhoekfoto.nl/agenda/item//209796</a> || Ik ben fotograaf en dwaal graag met mijn camera door mijn woonplaats Zutphen. Al wandelend heb ik al veel prachtige plekken ontdekt. Er is zoveel moois om vast te leggen! Ik vind het heerlijk om dat enthousiasme over Zutphen én fotograferen met anderen te delen. Samen Dwalen dus, ga je mee?

Op 15 juni gaan we aan de slag met het thema "Diafragma". In een gemoedelijke sfeer krijg je uitleg over de werking van het Diafragma in een fototoestel. Ook licht ik de effecten toe die je met de instelling ervan kunt bereiken. Je doet praktische oefeningen in de historische binnenstad van Zutphen én je krijgt je feedback op je foto's.

In deze workshop leer je om het diafragma van je camera te beheersen. Dat heeft alles te maken met scherpte van je onderwerp. Wil je alle onderdelen van je foto scherp vastleggen of juist een portret met een zachte achtergrond maken? Je krijgt ruimte om te oefenen met de theorie en we bespreken je gemaakte foto’s na. Zo krijg je meer controle en kun je meer creativiteit in je foto’s leggen.

Ga je mee Dwalen door Zutphen? Meer informatie en aanmelden via: www.jasjadewitfotografie.nl of 06-577 85 250. Ik zie je graag!
LAST-MODIFIED:20260422T031616Z
LOCATION:Genietcafe Oude Bornhof 57 7201DX Zutphen
SEQUENCE:0
STATUS:CONFIRMED
SUMMARY:Dwalen door Zutphen (fotografie-wandeling)
TRANSP:OPAQUE
END:VEVENT
END:VCALENDAR
