BEGIN:VCALENDAR
PRODID:-//PUBBLE//an agenda//NL
VERSION:2.0
METHOD:PUBLISH
BEGIN:VEVENT
DTSTART:20180621T123000Z
DTEND:20180621T140000Z
DTSTAMP:20260424T164710Z
UID:4fef232f-dcdc-49b0-bc1f-b3fda00095e7
CREATED:20260424T164710Z
URL:https://www.achterhoekfoto.nl/agenda/item/209150
NAME:Careaz Antoniushove: Careaz Creatief AchterhoekFoto.nl
X-WR-CALNAME:Careaz Antoniushove: Careaz Creatief AchterhoekFoto.nl
X-ALT-DESC;FMTTYPE=text/html:<a href='https://www.achterhoekfoto.nl/agenda/item//209150'>https://achterhoekfoto.nl/agenda/item//209150</a> || Zelf kaarten maken € 3,00  WP € 2,50<br /><br /><br /><br />
DESCRIPTION:<a href='https://www.achterhoekfoto.nl/agenda/item//209150'>https://www.achterhoekfoto.nl/agenda/item//209150</a> || Zelf kaarten maken € 3,00  WP € 2,50
LAST-MODIFIED:20260424T164710Z
LOCATION:Careaz Antoniushove Rapenburgsestraat 33 7131CW Lichtenvoorde
SEQUENCE:0
STATUS:CONFIRMED
SUMMARY:Careaz Antoniushove: Careaz Creatief
TRANSP:OPAQUE
END:VEVENT
END:VCALENDAR
