BEGIN:VCALENDAR
PRODID:-//PUBBLE//an agenda//NL
VERSION:2.0
METHOD:PUBLISH
BEGIN:VEVENT
DTSTART:20180620T123000Z
DTEND:20180620T140000Z
DTSTAMP:20260424T045954Z
UID:729c3f2f-48a6-4577-a014-cfeccf37f4d7
CREATED:20260424T045954Z
URL:https://www.achterhoekfoto.nl/agenda/item/209149
NAME:Careaz Antoniushove: Careaz Welness AchterhoekFoto.nl
X-WR-CALNAME:Careaz Antoniushove: Careaz Welness AchterhoekFoto.nl
X-ALT-DESC;FMTTYPE=text/html:<a href='https://www.achterhoekfoto.nl/agenda/item//209149'>https://achterhoekfoto.nl/agenda/item//209149</a> || Ontspannen gezichtsverzorging. Vooraf reserveren bij de receptie. Vol=Vol € 5,50 WP € 5,00<br /><br /><br /><br />
DESCRIPTION:<a href='https://www.achterhoekfoto.nl/agenda/item//209149'>https://www.achterhoekfoto.nl/agenda/item//209149</a> || Ontspannen gezichtsverzorging. Vooraf reserveren bij de receptie. Vol=Vol € 5,50 WP € 5,00
LAST-MODIFIED:20260424T045954Z
LOCATION:Careaz Antoniushove Rapenburgsestraat 33 7131CW Lichtenvoorde
SEQUENCE:0
STATUS:CONFIRMED
SUMMARY:Careaz Antoniushove: Careaz Welness
TRANSP:OPAQUE
END:VEVENT
END:VCALENDAR
