BEGIN:VCALENDAR
PRODID:-//PUBBLE//an agenda//NL
VERSION:2.0
METHOD:PUBLISH
BEGIN:VEVENT
DTSTART:20180616T123000Z
DTEND:20180616T143000Z
DTSTAMP:20260422T172539Z
UID:161c4af8-e7e3-4e8b-b447-0daffa6a7997
CREATED:20260422T172539Z
URL:https://www.achterhoekfoto.nl/agenda/item/209148
NAME:Careaz Antoniushove: Careaz Gaat uit AchterhoekFoto.nl
X-WR-CALNAME:Careaz Antoniushove: Careaz Gaat uit AchterhoekFoto.nl
X-ALT-DESC;FMTTYPE=text/html:<a href='https://www.achterhoekfoto.nl/agenda/item//209148'>https://achterhoekfoto.nl/agenda/item//209148</a> || Rondrit door de omgeving. Opgeven bij de receptie  €5,50  WP 5,00<br /><br /><br /><br />
DESCRIPTION:<a href='https://www.achterhoekfoto.nl/agenda/item//209148'>https://www.achterhoekfoto.nl/agenda/item//209148</a> || Rondrit door de omgeving. Opgeven bij de receptie  €5,50  WP 5,00
LAST-MODIFIED:20260422T172539Z
LOCATION:Careaz Antoniushove Rapenburgsestraat 33 7131CW Lichtenvoorde
SEQUENCE:0
STATUS:CONFIRMED
SUMMARY:Careaz Antoniushove: Careaz Gaat uit
TRANSP:OPAQUE
END:VEVENT
END:VCALENDAR
