BEGIN:VCALENDAR
PRODID:-//PUBBLE//an agenda//NL
VERSION:2.0
METHOD:PUBLISH
BEGIN:VEVENT
DTSTART:20180614T123000Z
DTEND:20180614T140000Z
DTSTAMP:20260421T211945Z
UID:712082f1-f980-463c-8c79-189e9d33de81
CREATED:20260421T211945Z
URL:https://www.achterhoekfoto.nl/agenda/item/209147
NAME:Careaz Antoniushove: Careaz Muzikaal AchterhoekFoto.nl
X-WR-CALNAME:Careaz Antoniushove: Careaz Muzikaal AchterhoekFoto.nl
X-ALT-DESC;FMTTYPE=text/html:<a href='https://www.achterhoekfoto.nl/agenda/item//209147'>https://achterhoekfoto.nl/agenda/item//209147</a> || Samen liedjes zingen van toen € 3,00   WP € 2,50<br /><br /><br /><br />
DESCRIPTION:<a href='https://www.achterhoekfoto.nl/agenda/item//209147'>https://www.achterhoekfoto.nl/agenda/item//209147</a> || Samen liedjes zingen van toen € 3,00   WP € 2,50
LAST-MODIFIED:20260421T211945Z
LOCATION:Careaz Antoniushove Rapenburgsestraat 33 7131CW Lichtenvoorde
SEQUENCE:0
STATUS:CONFIRMED
SUMMARY:Careaz Antoniushove: Careaz Muzikaal
TRANSP:OPAQUE
END:VEVENT
END:VCALENDAR
