BEGIN:VCALENDAR
PRODID:-//PUBBLE//an agenda//NL
VERSION:2.0
METHOD:PUBLISH
BEGIN:VEVENT
DTSTART:20180613T123000Z
DTEND:20180613T140000Z
DTSTAMP:20260421T100634Z
UID:1a9e4c14-231b-421f-ae70-a6eb1755b2d1
CREATED:20260421T100634Z
URL:https://www.achterhoekfoto.nl/agenda/item/209146
NAME:Careaz Antoniushove: Careaz Welness AchterhoekFoto.nl
X-WR-CALNAME:Careaz Antoniushove: Careaz Welness AchterhoekFoto.nl
X-ALT-DESC;FMTTYPE=text/html:<a href='https://www.achterhoekfoto.nl/agenda/item//209146'>https://achterhoekfoto.nl/agenda/item//209146</a> || Ontspannen handmassage. Vooraf reserveren bij de receptie. Vol = Vol  € 3,00 WP €2,50<br /><br /><br /><br />
DESCRIPTION:<a href='https://www.achterhoekfoto.nl/agenda/item//209146'>https://www.achterhoekfoto.nl/agenda/item//209146</a> || Ontspannen handmassage. Vooraf reserveren bij de receptie. Vol = Vol  € 3,00 WP €2,50
LAST-MODIFIED:20260421T100634Z
LOCATION:Careaz Antoniushove Rapenburgsestraat 33 7131CW Lichtenvoorde
SEQUENCE:0
STATUS:CONFIRMED
SUMMARY:Careaz Antoniushove: Careaz Welness
TRANSP:OPAQUE
END:VEVENT
END:VCALENDAR
