BEGIN:VCALENDAR
PRODID:-//PUBBLE//an agenda//NL
VERSION:2.0
METHOD:PUBLISH
BEGIN:VEVENT
DTSTART:20180620T130000Z
DTEND:20180620T150000Z
DTSTAMP:20260424T061440Z
UID:507a2229-6a2f-468c-8d2e-8bd8e1883cc9
CREATED:20260424T061440Z
URL:https://www.achterhoekfoto.nl/agenda/item/209091
NAME:Familiefilm: Pieter Konijn AchterhoekFoto.nl
X-WR-CALNAME:Familiefilm: Pieter Konijn AchterhoekFoto.nl
X-ALT-DESC;FMTTYPE=text/html:<a href='https://www.achterhoekfoto.nl/agenda/item//209091'>https://achterhoekfoto.nl/agenda/item//209091</a> || Peter Konijn leidt een perfect leventje in de groentetuin bij hem om de hoek, met wortels in overvloed. Totdat de tuin een nieuwe eigenaar krijgt, die hem en zijn vrienden weg wil hebben.<br /><br /><br /><br />
DESCRIPTION:<a href='https://www.achterhoekfoto.nl/agenda/item//209091'>https://www.achterhoekfoto.nl/agenda/item//209091</a> || Peter Konijn leidt een perfect leventje in de groentetuin bij hem om de hoek, met wortels in overvloed. Totdat de tuin een nieuwe eigenaar krijgt, die hem en zijn vrienden weg wil hebben.
LAST-MODIFIED:20260424T061440Z
LOCATION:Barghse Huus theater & film Willem van den Berghstraat 1 7041CW s-Heerenberg
SEQUENCE:0
STATUS:CONFIRMED
SUMMARY:Familiefilm: Pieter Konijn
TRANSP:OPAQUE
END:VEVENT
END:VCALENDAR
