BEGIN:VCALENDAR
PRODID:-//PUBBLE//an agenda//NL
VERSION:2.0
METHOD:PUBLISH
BEGIN:VEVENT
DTSTART:20180619T180000Z
DTEND:20180619T200000Z
DTSTAMP:20260424T003314Z
UID:b6eea83d-5863-432c-a006-4551b7dd4921
CREATED:20260424T003314Z
URL:https://www.achterhoekfoto.nl/agenda/item/209090
NAME:Film: The Florida Project AchterhoekFoto.nl
X-WR-CALNAME:Film: The Florida Project AchterhoekFoto.nl
X-ALT-DESC;FMTTYPE=text/html:<a href='https://www.achterhoekfoto.nl/agenda/item//209090'>https://achterhoekfoto.nl/agenda/item//209090</a> || Halley is de piepjonge moeder van de zesjarige Mooney. Ze moeten het samen zien te rooien in een goedkoop motel vlakbij Disneyland, Florida.<br /><br /><br /><br />
DESCRIPTION:<a href='https://www.achterhoekfoto.nl/agenda/item//209090'>https://www.achterhoekfoto.nl/agenda/item//209090</a> || Halley is de piepjonge moeder van de zesjarige Mooney. Ze moeten het samen zien te rooien in een goedkoop motel vlakbij Disneyland, Florida.
LAST-MODIFIED:20260424T003314Z
LOCATION:Barghse Huus theater & film Willem van den Berghstraat 1 7041CW s-Heerenberg
SEQUENCE:0
STATUS:CONFIRMED
SUMMARY:Film: The Florida Project
TRANSP:OPAQUE
END:VEVENT
END:VCALENDAR
