BEGIN:VCALENDAR
PRODID:-//PUBBLE//an agenda//NL
VERSION:2.0
METHOD:PUBLISH
BEGIN:VEVENT
DTSTART:20180615T180000Z
DTEND:20180615T200000Z
DTSTAMP:20260422T103342Z
UID:dea7110e-e56f-4a5d-b3ac-9de51e8d7509
CREATED:20260422T103342Z
URL:https://www.achterhoekfoto.nl/agenda/item/208828
NAME:Mirrewinter the movie AchterhoekFoto.nl
X-WR-CALNAME:Mirrewinter the movie AchterhoekFoto.nl
X-ALT-DESC;FMTTYPE=text/html:<a href='https://www.achterhoekfoto.nl/agenda/item//208828'>https://achterhoekfoto.nl/agenda/item//208828</a> || <p>Mirrewinter the movie is "De oorlogsfilm van het Oosten". Een streekproductie waar we met zijn allen trots op mogen zijn. 
 
Mirrewinter op het platteland, het succesvolle en spannende oorlogsboek  van schrijver Gert-Jan Oplaat trok tijdens de kerkentour van het Brook Duo volle kerken in de hele regio. Een speelfilm over de boerenfamilie in "ut Maarkelsebrook", met de "ongelukkig" geboren Getje en het Joodse onderduikertje Sarah kon niet uitblijven.
 
140 mensen uit de regio spelen mee in deze dialect film waaronder Eppie Klomphaar, Henk Dijkstra en Herman Schaap uit Laren. "Fantastisch om te zien waar we met zijn allen toe in staat zijn, noaberschap puur", aldus producent/schrijver Oplaat.
 
Na de audities werd door vele vrijwilligers een oude leegstaande boerderij aan de Brikkenweg in Markelo omgebouwd tot een set. Een kleding en schmink commissie zorgde voor, tot in de puntjes kloppende, kleding.
Een re-enactman groep van "Duitsers" maakte de opnames soms angstaanjagend echt. 
De opnames hebben 5 maanden geduurd en op 6 juni (D-day) is de première, waarna de film vertoond gaat worden op verschillende plaatsen in de regio.
 
Dit mag u niet missen. Vol is vol. Aanvang 20.00 uur
Kaarten zijn verkrijgbaar bij het Kulturhus of te reserveren (met bankoverschrijving) via info@kulturhuslaren.nl
 
</p>
DESCRIPTION:<a href='https://www.achterhoekfoto.nl/agenda/item//208828'>https://www.achterhoekfoto.nl/agenda/item//208828</a> || Mirrewinter the movie is "De oorlogsfilm van het Oosten". Een streekproductie waar we met zijn allen trots op mogen zijn. 
 
Mirrewinter op het platteland, het succesvolle en spannende oorlogsboek  van schrijver Gert-Jan Oplaat trok tijdens de kerkentour van het Brook Duo volle kerken in de hele regio. Een speelfilm over de boerenfamilie in "ut Maarkelsebrook", met de "ongelukkig" geboren Getje en het Joodse onderduikertje Sarah kon niet uitblijven.
 
140 mensen uit de regio spelen mee in deze dialect film waaronder Eppie Klomphaar, Henk Dijkstra en Herman Schaap uit Laren. "Fantastisch om te zien waar we met zijn allen toe in staat zijn, noaberschap puur", aldus producent/schrijver Oplaat.
 
Na de audities werd door vele vrijwilligers een oude leegstaande boerderij aan de Brikkenweg in Markelo omgebouwd tot een set. Een kleding en schmink commissie zorgde voor, tot in de puntjes kloppende, kleding.
Een re-enactman groep van "Duitsers" maakte de opnames soms angstaanjagend echt. 
De opnames hebben 5 maanden geduurd en op 6 juni (D-day) is de première, waarna de film vertoond gaat worden op verschillende plaatsen in de regio.
 
Dit mag u niet missen. Vol is vol. Aanvang 20.00 uur
Kaarten zijn verkrijgbaar bij het Kulturhus of te reserveren (met bankoverschrijving) via info@kulturhuslaren.nl
 

LAST-MODIFIED:20260422T103342Z
LOCATION:Kulturhus ‘t Kruispunt Verwoldseweg 1 7245VW Laren
SEQUENCE:0
STATUS:CONFIRMED
SUMMARY:Mirrewinter the movie
TRANSP:OPAQUE
END:VEVENT
END:VCALENDAR
