BEGIN:VCALENDAR
PRODID:-//PUBBLE//an agenda//NL
VERSION:2.0
METHOD:PUBLISH
BEGIN:VEVENT
DTSTART:20180623T160000Z
DTEND:20180623T200000Z
DTSTAMP:20260425T144259Z
UID:4a4610ad-0c94-4f7e-b198-69c94fce7b0f
CREATED:20260425T144259Z
URL:https://www.achterhoekfoto.nl/agenda/item/208823
NAME:De Tuin der Lusten AchterhoekFoto.nl
X-WR-CALNAME:De Tuin der Lusten AchterhoekFoto.nl
X-ALT-DESC;FMTTYPE=text/html:<a href='https://www.achterhoekfoto.nl/agenda/item//208823'>https://achterhoekfoto.nl/agenda/item//208823</a> || <p>22, 23 en 24 juni komt De Tuin der Lusten naar Laren met een culinair en cultureel zesgangenmenu. De Tuin der Lusten is een culinair theaterfestival en voor liefhebbers van het Terschellingse Oerol-festival een absolute must. Het reizende festival doet elk jaar een ander particulier landgoed aan, en richt de mooie hoekjes van het landgoed in op locatietheatervoorstellingen en een dinerzaal in de open lucht. Deze editie zal Kasteel Oolde het landgoed drie dagen openstellen voor onder andere een theaterprogramma van voormalig NOS-journaal presentatrice Debby Petter. 
Sinds een paar jaar biedt het festival een totaalervaring aan alle bezoekers. Een zesgangenmenu bestaande uit drie kunst- en drie dinergangen. Een wandeling door de monumentale park- en tuinaanleg van Kasteel Oolde als amuse, opgevolgd door filosofisch theater van Studio Eclipse en vertelkunst van Debby Petter. Kunst, locatietheater en mediterrane gerechten wisselen elkaar af in zes prikkelende gangen. Alles afgestemd op het landgoed en haar karakteristieken. Het volledige programma staat op http://www.detuinderlusten.eu. 
</p>
DESCRIPTION:<a href='https://www.achterhoekfoto.nl/agenda/item//208823'>https://www.achterhoekfoto.nl/agenda/item//208823</a> || 22, 23 en 24 juni komt De Tuin der Lusten naar Laren met een culinair en cultureel zesgangenmenu. De Tuin der Lusten is een culinair theaterfestival en voor liefhebbers van het Terschellingse Oerol-festival een absolute must. Het reizende festival doet elk jaar een ander particulier landgoed aan, en richt de mooie hoekjes van het landgoed in op locatietheatervoorstellingen en een dinerzaal in de open lucht. Deze editie zal Kasteel Oolde het landgoed drie dagen openstellen voor onder andere een theaterprogramma van voormalig NOS-journaal presentatrice Debby Petter. 
Sinds een paar jaar biedt het festival een totaalervaring aan alle bezoekers. Een zesgangenmenu bestaande uit drie kunst- en drie dinergangen. Een wandeling door de monumentale park- en tuinaanleg van Kasteel Oolde als amuse, opgevolgd door filosofisch theater van Studio Eclipse en vertelkunst van Debby Petter. Kunst, locatietheater en mediterrane gerechten wisselen elkaar af in zes prikkelende gangen. Alles afgestemd op het landgoed en haar karakteristieken. Het volledige programma staat op http://www.detuinderlusten.eu. 

LAST-MODIFIED:20260425T144259Z
LOCATION:Kasteel Oolde Ooldselaan 15  Laren
SEQUENCE:0
STATUS:CONFIRMED
SUMMARY:De Tuin der Lusten
TRANSP:OPAQUE
END:VEVENT
END:VCALENDAR
